BEGIN:VCALENDAR
VERSION:2.0
PRODID:-//ChamberMaster//Event Calendar 2.0//EN
METHOD:PUBLISH
X-PUBLISHED-TTL:P3D
REFRESH-INTERVAL:P3D
CALSCALE:GREGORIAN
BEGIN:VEVENT
DTSTART:20100310T030000Z
DTEND:20100310T040000Z
X-MICROSOFT-CDO-ALLDAYEVENT:FALSE
SUMMARY:Your Breast Defense: Screening Options for Every Woman
DESCRIPTION:Breast cancer is the most common cancer and second leading cause of death for women in the U. S. There is a significant reduction in breast cancer mortality for women screened than those who are not\; 20 - 40 % reduction in breast cancer mortality.\n\n\n\nFind out what you need to know to make an informed decision about when and how often to have a mammogram. Get the latest information about breast screening options\, including digital mammography. Our panel of physicians will discuss the newest information and answer your questions on the subject.\n\n\n\nAnd be one of the first to sign up for our first annual Mammo Marathon\, April 9 -10. Learn more about this FREE screening event and reserve your spot!\n\n\n\nOur panel includes:\n\nManjula M. Jeyapalan-Noone\, MD\n\nEl Camino Hospital Surgeon \n\n\n\nRamesh Gopi\, MD \n\nEl Camino Hospital Radiologist \n\n\n\nJessie K. Jacob\, MD\n\nEl Camino Hospital Radiologist \n\n\n\nRakesh R. Patel\, MD\n\nEl Camino Hospital Radiation Oncologist \n\n\n\nPre-registration Required. Please call 1-800-216-5556 to reserve your place at this meeting. Your spouse or a guest is welcome to join you.
X-ALT-DESC;FMTTYPE=text/html:Breast cancer is the most common cancer and second leading cause of death for women in the U. S. There is a significant reduction in breast cancer mortality for women screened than those who are not\; 20 - 40 % reduction in breast cancer mortality.\n<br>\n<br>Find out what you need to know to make an informed decision about when and how often to have a mammogram. Get the latest information about breast screening options\, including digital mammography. Our panel of physicians will discuss the newest information and answer your questions on the subject.\n<br>\n<br>And be one of the first to sign up for our first annual Mammo Marathon\, April 9 -10. Learn more about this FREE screening event and reserve your spot!\n<br>\n<br>Our panel includes:\n<br>Manjula M. Jeyapalan-Noone\, MD\n<br>El Camino Hospital Surgeon \n<br>\n<br>Ramesh Gopi\, MD \n<br>El Camino Hospital Radiologist \n<br>\n<br>Jessie K. Jacob\, MD\n<br>El Camino Hospital Radiologist \n<br>\n<br>Rakesh R. Patel\, MD\n<br>El Camino Hospital Radiation Oncologist \n<br>\n<br>Pre-registration Required. Please call 1-800-216-5556 to reserve your place at this meeting. Your spouse or a guest is welcome to join you. 
LOCATION:El Camino Hospital -- Los Gatos Conference Center 815 Pollard Road Los Gatos\, CA 95032
UID:e.517.219
SEQUENCE:3
DTSTAMP:20260424T055638Z
URL:https://members.saratogachamber.org/events/details/your-breast-defense-screening-options-for-every-woman-03-09-2010-219
END:VEVENT

END:VCALENDAR
