BEGIN:VCALENDAR
VERSION:2.0
PRODID:-//ChamberMaster//Event Calendar 2.0//EN
METHOD:PUBLISH
X-PUBLISHED-TTL:P3D
REFRESH-INTERVAL:P3D
CALSCALE:GREGORIAN
BEGIN:VEVENT
DTSTART:20091206T220000Z
DTEND:20091207T000000Z
X-MICROSOFT-CDO-ALLDAYEVENT:FALSE
SUMMARY:World War II Veteran Panel
DESCRIPTION:The public is invited to a panel discussion December 6 at 2 PM at the Saratoga Library (13650 Saratoga Avenue in Saratoga).  SHF Historian Ray Cosyn will moderate as veterans from World War II recount some of their memories.\n   Participating in the panel will be George Cooper who flew P47?s in the European Theater with 77 missions\; Herbert Kwart who flew a Flying Fortress as part of the 8th Air Force with 35 missions\; Ed Pack\, with the 59th Signal Battalion and later the 8th Corp part of those liberating the concentration camps\; Bud Rideout\, on of the Flying Tigers\; and Mac McCaughey part of the 94th Division who landed on Omaha Beach. Light refreshments will be served. The event is free to the public.  The Saratoga History Museum is sponsoring the event and is located at 20450 Saratoga-Los Gatos Road in Saratoga\, CA.  You can call 408-867-4311 for more information or go to: http://www.saratogahistory.com.
X-ALT-DESC;FMTTYPE=text/html:The public is invited to a panel discussion December 6 at 2 PM at the Saratoga Library (13650 Saratoga Avenue in Saratoga).  SHF Historian Ray Cosyn will moderate as veterans from World War II recount some of their memories.\n   Participating in the panel will be George Cooper who flew P47?s in the European Theater with 77 missions\; Herbert Kwart who flew a Flying Fortress as part of the 8th Air Force with 35 missions\; Ed Pack\, with the 59th Signal Battalion and later the 8th Corp part of those liberating the concentration camps\; Bud Rideout\, on of the Flying Tigers\; and Mac McCaughey part of the 94th Division who landed on Omaha Beach. Light refreshments will be served. The event is free to the public.  The Saratoga History Museum is sponsoring the event and is located at 20450 Saratoga-Los Gatos Road in Saratoga\, CA.  You can call 408-867-4311 for more information or go to: http://www.saratogahistory.com.\n
LOCATION:Saratoga Community Library (13650 Saratoga Avenue)
UID:e.517.205
SEQUENCE:3
DTSTAMP:20260424T101822Z
URL:https://members.saratogachamber.org/events/details/world-war-ii-veteran-panel-12-06-2009-205
END:VEVENT

END:VCALENDAR
