BEGIN:VCALENDAR
VERSION:2.0
PRODID:-//ChamberMaster//Event Calendar 2.0//EN
METHOD:PUBLISH
X-PUBLISHED-TTL:P3D
REFRESH-INTERVAL:P3D
CALSCALE:GREGORIAN
BEGIN:VEVENT
DTSTART:20110924T160000Z
DTEND:20110924T190000Z
X-MICROSOFT-CDO-ALLDAYEVENT:FALSE
SUMMARY:Women's Health Forum at El Camino Hospital-Los Gatos
DESCRIPTION:Date: Saturday\, September 24\, 2011 - Los Gatos\n\nTime: 9:00am   12:00pm\n\nLocation: El Camino Hospital Los Gatos\n\n\n\nThe Women's Hospital at El Camino is hosting the Women's Health Forum on\n\nSaturday\, September 24\, 2011. Please join us for a morning that will include\n\nvaluable lectures\, free health screenings\, a morning exercise class\, giveaways\,\n\nbrunch and much more!\n\n\n\nTopics will cover important advances on key topics like breast\, bone and pelvic\n\nhealth\, plus the latest in gynecological surgery\, information on menopause and\n\nEldercare as well as skin care tips for the entire family. Screenings will include\n\nheel bone density testing\, BMI\, blood pressure and heart rate testing.\n\nThis event is FREE and open to the public.\n\n\n\nRegistration is required. Spots are limited\, so register today! To register\n\ncall 800-216-5556\, or visit http://www.elcaminohospital.org/womensforum
X-ALT-DESC;FMTTYPE=text/html:Date: Saturday\, September 24\, 2011 - Los Gatos<br />\nTime: 9:00am &ndash\; 12:00pm<br />\nLocation: El Camino Hospital Los Gatos<br />\n<br />\nThe Women&rsquo\;s Hospital at El Camino is hosting the Women&rsquo\;s Health Forum on<br />\nSaturday\, September 24\, 2011. Please join us for a morning that will include<br />\nvaluable lectures\, free health screenings\, a morning exercise class\, giveaways\,<br />\nbrunch and much more!<br />\n<br />\nTopics will cover important advances on key topics like breast\, bone and pelvic<br />\nhealth\, plus the latest in gynecological surgery\, information on menopause and<br />\nEldercare as well as skin care tips for the entire family. Screenings will include<br />\nheel bone density testing\, BMI\, blood pressure and heart rate testing.<br />\nThis event is FREE and open to the public.<br />\n<br />\nRegistration is required. Spots are limited\, so register today! To register<br />\ncall 800-216-5556\, or visit http://www.elcaminohospital.org/womensforum<br />\n
LOCATION:El Camino Hospital- Los Gatos
UID:e.517.1262
SEQUENCE:3
DTSTAMP:20260421T082316Z
URL:https://members.saratogachamber.org/events/details/women-s-health-forum-at-el-camino-hospital-los-gatos-09-24-2011-1262
END:VEVENT

END:VCALENDAR
