BEGIN:VCALENDAR
VERSION:2.0
PRODID:-//ChamberMaster//Event Calendar 2.0//EN
METHOD:PUBLISH
X-PUBLISHED-TTL:P3D
REFRESH-INTERVAL:P3D
CALSCALE:GREGORIAN
BEGIN:VEVENT
DTSTART:20251025T210000Z
DTEND:20251025T230000Z
X-MICROSOFT-CDO-ALLDAYEVENT:FALSE
SUMMARY:Witchy Walk-A-Bout
DESCRIPTION:Historic Saratoga Village
X-ALT-DESC;FMTTYPE=text/html:Historic Saratoga Village<br />\n&nbsp\;
LOCATION:
UID:e.517.10136
SEQUENCE:3
DTSTAMP:20260424T121735Z
URL:https://members.saratogachamber.org/events/details/witchy-walk-a-bout-10136
END:VEVENT

END:VCALENDAR
