BEGIN:VCALENDAR
VERSION:2.0
PRODID:-//ChamberMaster//Event Calendar 2.0//EN
METHOD:PUBLISH
X-PUBLISHED-TTL:P3D
REFRESH-INTERVAL:P3D
CALSCALE:GREGORIAN
BEGIN:VEVENT
DTSTART:20110216T020000Z
DTEND:20110216T050000Z
X-MICROSOFT-CDO-ALLDAYEVENT:FALSE
SUMMARY:Wha is happening in Egypt: A panel disscussion
DESCRIPTION:The West Valley College Center for Global Education is hosting a panel discussion to delve into the causes\, potential solutions and world views of the situation in Egypt. The panel includes several Fulbright scholars\, College Professors\, a students and business leader. The WVC Global Education Committee facilitates a campus-wide commitment to global citizenship through curriculum\, activities and professional development.
X-ALT-DESC;FMTTYPE=text/html:The West Valley College Center for Global Education is hosting a panel discussion to delve into the causes\, potential solutions and world views of the situation in Egypt. The panel includes several Fulbright scholars\, College Professors\, a students and business leader. The WVC Global Education Committee facilitates a campus-wide commitment to global citizenship through curriculum\, activities and professional development.
LOCATION:West Valley College\, Fox Center\, Second Floor room 203
UID:e.517.326
SEQUENCE:3
DTSTAMP:20260423T154647Z
URL:https://members.saratogachamber.org/events/details/wha-is-happening-in-egypt-a-panel-disscussion-02-15-2011-326
END:VEVENT

END:VCALENDAR
