BEGIN:VCALENDAR
VERSION:2.0
PRODID:-//ChamberMaster//Event Calendar 2.0//EN
METHOD:PUBLISH
X-PUBLISHED-TTL:P3D
REFRESH-INTERVAL:P3D
CALSCALE:GREGORIAN
BEGIN:VEVENT
DTSTART;VALUE=DATE:20101121
DTEND;VALUE=DATE:20101122
TRANSP:TRANSPARENT
X-MICROSOFT-CDO-ALLDAYEVENT:TRUE
SUMMARY:Wet or Dry. John barleycorn or Prohibition
DESCRIPTION:"Wet or Dry. John Barleycorn or Prohibition."a free lecture by Saratoga Historical Foundation Historian Ray Cosyn will take place Sunday\, November 21 at 1:30 at the Grand Lodge of California on 14414 Oak Street in Saratoga. The event is open to the public. Light refreshments will be served.\n\nAs early as the 1850's the wave of temperance swept across the US in an effort to curtail all drinking of alcoholic beverages. Saloons were disrupted by women praying outside. Ministers preached against the evils of drink. On January 16\, 1920 the 18th amendment took effect banning the sale\, manufacture and transportation of alcohol. Some were so excited that this would finally end all crime\, that towns sold their jails! Come find out what happened during the next 13 years.
X-ALT-DESC;FMTTYPE=text/html:&quot\;Wet or Dry. John Barleycorn or Prohibition.&quot\;a free lecture by Saratoga Historical Foundation Historian Ray Cosyn will take place Sunday\, November 21 at 1:30 at the Grand Lodge of California on 14414 Oak Street in Saratoga. The event is open to the public. Light refreshments will be served.<br />\nAs early as the 1850&#39\;s the wave of temperance swept across the US in an effort to curtail all drinking of alcoholic beverages. Saloons were disrupted by women praying outside. Ministers preached against the evils of drink. On January 16\, 1920 the 18th amendment took effect banning the sale\, manufacture and transportation of alcohol. Some were so excited that this would finally end all crime\, that towns sold their jails! Come find out what happened during the next 13 years.<br />\n
LOCATION:Grand Lodge of California at 14414 Oak Street in Saratoga
UID:e.517.309
SEQUENCE:3
DTSTAMP:20260423T193201Z
URL:https://members.saratogachamber.org/events/details/wet-or-dry-john-barleycorn-or-prohibition-11-21-2010-309
END:VEVENT

END:VCALENDAR
