BEGIN:VCALENDAR
VERSION:2.0
PRODID:-//ChamberMaster//Event Calendar 2.0//EN
METHOD:PUBLISH
X-PUBLISHED-TTL:P3D
REFRESH-INTERVAL:P3D
CALSCALE:GREGORIAN
BEGIN:VEVENT
DTSTART:20110628T000000Z
DTEND:20110628T040000Z
X-MICROSOFT-CDO-ALLDAYEVENT:FALSE
SUMMARY:West Valley Community Services presents Taste of Compassion
DESCRIPTION:West Valley Community Services presents Taste of Compassion hosted by Sushi Hana in Cupertino on Monday\, June 27 and Tuesday\, June 28. Tickets are $24 in advance\, $26 at the door. 50% of proceeds directly benefit services to prevent hunger and homelessness in Cupertino\, Saratoga\, Los Gatos\, Monte Sereno and West San Jose. Enjoy a great meal\, for a great cause!\n\n	Visit www.tasteofcompassion.org or call (408) 255-8033 ext. 152 for more information or to make reservations.
X-ALT-DESC;FMTTYPE=text/html:<p class="MsoNormal" style="line-height: normal\; margin: 0in 0in 0pt">\n	<font color="#000000" face="Calibri" size="3">West Valley Community Services presents Taste of Compassion hosted by Sushi Hana in Cupertino on Monday\, June 27 and Tuesday\, June 28. Tickets are $24 in advance\, $26 at the door. 50% of proceeds directly benefit services to prevent hunger and homelessness in Cupertino\, Saratoga\, Los Gatos\, Monte Sereno and West San Jose. Enjoy a great meal\, for a great cause!</font></p>\n<p class="MsoNormal" style="line-height: normal\; margin: 0in 0in 0pt">\n	<font color="#000000" face="Calibri" size="3">Visit www.tasteofcompassion.org or call (408) 255-8033 ext. 152 for more information or to make reservations.</font></p>\n
LOCATION:Sushi Hana 19068 Stevens Creek Boulevard\, Cupertino\, CA 95014
UID:e.517.364
SEQUENCE:3
DTSTAMP:20260423T105642Z
URL:https://members.saratogachamber.org/events/details/west-valley-community-services-presents-taste-of-compassion-06-27-2011-364
END:VEVENT

END:VCALENDAR
