BEGIN:VCALENDAR
VERSION:2.0
PRODID:-//ChamberMaster//Event Calendar 2.0//EN
METHOD:PUBLISH
X-PUBLISHED-TTL:P3D
REFRESH-INTERVAL:P3D
CALSCALE:GREGORIAN
BEGIN:VEVENT
DTSTART:20260226T160000Z
DTEND:20260226T170000Z
X-MICROSOFT-CDO-ALLDAYEVENT:FALSE
SUMMARY:West Valley College Multi-Chamber Morning Mixer
DESCRIPTION:West Valley College invites you to an exclusive\, members-only morning mixer\n\nat their Entrepreneur Center! Start your day with energy and new opportunities\n\nall before your second cup of coffee with fellow members from the Cupertino\,\n\nBlack\, Hispanic\, Los Gatos\, Saratoga\, Rainbow\, and Campbell Chambers.\n\nDon't just attend engage\, collaborate\, and elevate your business!
X-ALT-DESC;FMTTYPE=text/html:<p background-attachment:="" background-clip:="" background-image:="" background-origin:="" background-position:="" background-repeat:="" background-size:="" color:="" new="" style="margin-right: 0in\; margin-left: 0in\; font-size: 12pt\; font-family: " times=""><span style="font-size:14px\;"><span style="font-family:arial\;">West Valley College invites you to an exclusive\, members-only morning mixer<br />\nat their Entrepreneur Center! Start your day with energy and new opportunities<br />\nall before your second cup of coffee with fellow members from the Cupertino\,<br />\nBlack\, Hispanic\, Los Gatos\, Saratoga\, Rainbow\, and Campbell Chambers.<br />\nDon&rsquo\;t just attend&mdash\;engage\, collaborate\, and elevate your business!</span></span></p>\n\n<p>&nbsp\;</p>\n
LOCATION:West Valley College 14000 Fruitvale Avenue\, Saratoga Entrepreneurship Center Che School of Professional Studies\, Room 124
UID:e.517.10440
SEQUENCE:3
DTSTAMP:20260419T212630Z
URL:https://members.saratogachamber.org/events/details/west-valley-college-multi-chamber-morning-mixer-10440
END:VEVENT

END:VCALENDAR
