BEGIN:VCALENDAR
VERSION:2.0
PRODID:-//ChamberMaster//Event Calendar 2.0//EN
METHOD:PUBLISH
X-PUBLISHED-TTL:P3D
REFRESH-INTERVAL:P3D
CALSCALE:GREGORIAN
BEGIN:VEVENT
DTSTART:20250719T160000Z
DTEND:20250719T190000Z
X-MICROSOFT-CDO-ALLDAYEVENT:FALSE
SUMMARY:West Valley College | 2nd Annual Tour de Saratoga | Race to Raise
DESCRIPTION:Grab your bikes and join us for a ride through the streets of Saratoga! The second annual West Valley College Tour de Saratoga | Race to Raise welcomes everyone for a joyful community ride. Celebrate afterward at our on-campus\, post-ride fun zone with vendors\, music\, food trucks\, and more. Bring your family and friends to this new community tradition! 10k\, 20k\, and 30k Riders can register for one of three route lengths. For the 20k\, participants will loop the course twice. For the 30k participants will loop the course three times. The route begins and ends on West College Circle.
X-ALT-DESC;FMTTYPE=text/html:Grab your bikes and join us for a ride through the streets of Saratoga! The second annual West Valley College Tour de Saratoga | Race to Raise welcomes everyone for a joyful community ride. Celebrate afterward at our on-campus\, post-ride fun zone with vendors\, music\, food trucks\, and more. Bring your family and friends to this new community tradition! 10k\, 20k\, and 30k Riders can register for one of three route lengths. For the 20k\, participants will loop the course twice. For the 30k participants will loop the course three times. The route begins and ends on West College Circle.
LOCATION:West Valley College\, 14000 Fruitvale Ave.\, Saratoga
UID:e.517.10162
SEQUENCE:3
DTSTAMP:20260420T062605Z
URL:https://members.saratogachamber.org/events/details/west-valley-college-2nd-annual-tour-de-saratoga-race-to-raise-10162
END:VEVENT

END:VCALENDAR
