BEGIN:VCALENDAR
VERSION:2.0
PRODID:-//ChamberMaster//Event Calendar 2.0//EN
METHOD:PUBLISH
X-PUBLISHED-TTL:P3D
REFRESH-INTERVAL:P3D
CALSCALE:GREGORIAN
BEGIN:VEVENT
DTSTART:20110501T203000Z
DTEND:20110501T213000Z
X-MICROSOFT-CDO-ALLDAYEVENT:FALSE
SUMMARY:Themes Within the California Woman Suffrage Movement
DESCRIPTION:Join us May 1 when Jeanne McDonnell will speak on "Themes Within the California Woman Suffrage Movement at 1:30 PM at the IOOF Grand Hall at (14414 Oak Street\, Suite B\, Saratoga\, CA). The talk is sponsored by the Saratoga Historical Foundation and is free and open to the public. The hall is located around the corner from the Saratoga History Museum (20450 Saratoga-Los Gatos Road) which presently has an exhibit on woman?s suffrage and where a reception will be held after the lecture. \n\n\n\nWomen nationally would never have gained full and equal voting rights in 1920 without California women?s victory in 1911\, but basically\, why did so many women dedicate themselves to acquiring the vote? Not for what the word equality came to mean later. Women?s assigned role in American culture mainly centered around marriage\, children\, and family life. For that reason\, women came to care deeply about the unfairness of child labor\, the need to educate all children well and that included physical education\, free public libraries\, safe communities. In many places in the United States\, men bought political positions with money instead of wisdom. These are some of the fundamental reasons that generations of women--over 72 years\, dating from the first women?s rights convention in Seneca Falls\, New York in 1848--worked diligently to gain their share in crafting and enforcing the basic decisions of government. Join us and find out more about this fascinating chapter in US history.\n\n\n\nJeanne McDonnell is the author of Juana Briones of 19th Century California published in 2008 by University of Arizona Press and also author of unpublished history of California woman suffrage. She is on the board of the Palo Alto Historical Association and Palo Alto Stanford Heritage\, co-editor of PAHA newsletter\, chair of Palo Alto Woman?s Club history committee\, advocate for preservation of the Juana Briones house.
X-ALT-DESC;FMTTYPE=text/html:Join us May 1 when Jeanne McDonnell will speak on "Themes Within the California Woman Suffrage Movement at 1:30 PM at the IOOF Grand Hall at (14414 Oak Street\, Suite B\, Saratoga\, CA). The talk is sponsored by the Saratoga Historical Foundation and is free and open to the public. The hall is located around the corner from the Saratoga History Museum (20450 Saratoga-Los Gatos Road) which presently has an exhibit on woman?s suffrage and where a reception will be held after the lecture. \n<br>\n<br>Women nationally would never have gained full and equal voting rights in 1920 without California women?s victory in 1911\, but basically\, why did so many women dedicate themselves to acquiring the vote? Not for what the word equality came to mean later. Women?s assigned role in American culture mainly centered around marriage\, children\, and family life. For that reason\, women came to care deeply about the unfairness of child labor\, the need to educate all children well and that included physical education\, free public libraries\, safe communities. In many places in the United States\, men bought political positions with money instead of wisdom. These are some of the fundamental reasons that generations of women--over 72 years\, dating from the first women?s rights convention in Seneca Falls\, New York in 1848--worked diligently to gain their share in crafting and enforcing the basic decisions of government. Join us and find out more about this fascinating chapter in US history.\n<br>\n<br>Jeanne McDonnell is the author of Juana Briones of 19th Century California published in 2008 by University of Arizona Press and also author of unpublished history of California woman suffrage. She is on the board of the Palo Alto Historical Association and Palo Alto Stanford Heritage\, co-editor of PAHA newsletter\, chair of Palo Alto Woman?s Club history committee\, advocate for preservation of the Juana Briones house. \n<br>
LOCATION:14414 Oak Street\, Suite B Saratoga (IOOF Grand Hall)
UID:e.517.347
SEQUENCE:3
DTSTAMP:20260423T120023Z
URL:https://members.saratogachamber.org/events/details/themes-within-the-california-woman-suffrage-movement-05-01-2011-347
END:VEVENT

END:VCALENDAR
