BEGIN:VCALENDAR
VERSION:2.0
PRODID:-//ChamberMaster//Event Calendar 2.0//EN
METHOD:PUBLISH
X-PUBLISHED-TTL:P3D
REFRESH-INTERVAL:P3D
CALSCALE:GREGORIAN
BEGIN:VEVENT
DTSTART:20110424T010000Z
DTEND:20110424T050000Z
X-MICROSOFT-CDO-ALLDAYEVENT:FALSE
SUMMARY:Theater Gala at West Valley College
DESCRIPTION:West Valley College kicks off their Spring 2011 theater season with a live production of "Little Shop of Horrors" with a pre-and-post show Gala. Come experience a fabulously funny show and exciting gala event! Delight in sumptuous food and local wines\, bid on auction items\, and enjoy live jazz music. Wrap up the evening while you savor dessert and mingle with the cast at the post-show party. Proceeds from this gala will benefit West Valley College programs\, including the theater\, music and dance departments.
X-ALT-DESC;FMTTYPE=text/html:West Valley College kicks off their Spring 2011 theater season with a live production of "Little Shop of Horrors" with a pre-and-post show Gala. Come experience a fabulously funny show and exciting gala event! Delight in sumptuous food and local wines\, bid on auction items\, and enjoy live jazz music. Wrap up the evening while you savor dessert and mingle with the cast at the post-show party. Proceeds from this gala will benefit West Valley College programs\, including the theater\, music and dance departments.
LOCATION:West Valley College Theater 14000 Fruitvale Ave. Saratoga\, CA
UID:e.517.331
SEQUENCE:3
DTSTAMP:20260423T131110Z
URL:https://members.saratogachamber.org/events/details/theater-gala-at-west-valley-college-04-23-2011-331
END:VEVENT

END:VCALENDAR
