BEGIN:VCALENDAR
VERSION:2.0
PRODID:-//ChamberMaster//Event Calendar 2.0//EN
METHOD:PUBLISH
X-PUBLISHED-TTL:P3D
REFRESH-INTERVAL:P3D
CALSCALE:GREGORIAN
BEGIN:VEVENT
DTSTART:20110204T210000Z
DTEND:20110529T230000Z
X-MICROSOFT-CDO-ALLDAYEVENT:FALSE
SUMMARY:The Sixth Star-Celebrating the Anniversary of California Women Getting the Vote
DESCRIPTION::  A new exhibit\, ?The Sixth Star?Celebrating the Anniversary of California Women Getting the Vote? opens February 11 and runs through May 29 at the Saratoga History Museum (20450 Saratoga-Los Gatos Road).  The Museum is open from 1-4 PM Friday through Sunday.\n\n      Prior to 1911\, women were not allowed to vote but were required to pay taxes and abide by laws passed by men. In 1911\, California passed Amendment 8\, granting women the right to vote in state elections almost a decade before the 19th Amendment provided women's suffrage throughout the United States. California was the sixth state to do so. Find out how women in California campaigned for women?s suffrage.  Local citizen Isabella Blaney was one of the leaders.   Come see ephemera\, artifacts including letters from Jane Addams\, and learn how California?s amendment was the turning point to the passage of the 19th Amendment.
X-ALT-DESC;FMTTYPE=text/html::  A new exhibit\, ?The Sixth Star?Celebrating the Anniversary of California Women Getting the Vote? opens February 11 and runs through May 29 at the Saratoga History Museum (20450 Saratoga-Los Gatos Road).  The Museum is open from 1-4 PM Friday through Sunday.\n<br>      Prior to 1911\, women were not allowed to vote but were required to pay taxes and abide by laws passed by men. In 1911\, California passed Amendment 8\, granting women the right to vote in state elections almost a decade before the 19th Amendment provided women's suffrage throughout the United States. California was the sixth state to do so. Find out how women in California campaigned for women?s suffrage.  Local citizen Isabella Blaney was one of the leaders.   Come see ephemera\, artifacts including letters from Jane Addams\, and learn how California?s amendment was the turning point to the passage of the 19th Amendment.\n<br>
LOCATION:Saratoga History Museum at 20450 Saratoa-Los Gatos Road in Saratoga
UID:e.517.317
SEQUENCE:3
DTSTAMP:20260423T120352Z
URL:https://members.saratogachamber.org/events/details/the-sixth-star-celebrating-the-anniversary-of-california-women-getting-the-vote-02-04-2011-317
END:VEVENT

END:VCALENDAR
