BEGIN:VCALENDAR
VERSION:2.0
PRODID:-//ChamberMaster//Event Calendar 2.0//EN
METHOD:PUBLISH
X-PUBLISHED-TTL:P3D
REFRESH-INTERVAL:P3D
CALSCALE:GREGORIAN
BEGIN:VEVENT
DTSTART:20260223T000000Z
DTEND:20260223T010000Z
X-MICROSOFT-CDO-ALLDAYEVENT:FALSE
SUMMARY:The Choral Project - Givng Back Concert
DESCRIPTION:Founded in 1996 by Artistic Director Daniel Hughes\, this award-winning ensemble has wowed audiences with high-level choral literature\, celebrating diverse traditions and pushing creative boundaries. Performing on prestigious stages worldwide\, they have garnered critical acclaim for their technical excellence and emotionally compelling artistry. This special Giving Back concert will showcase their latest selections for 2026. \n\n     All donations will benefit Santa Maria Urban Ministry and its mission to feed the body\, mind and spirit of individuals in need. Tickets are not required\, so mark your calendars!
X-ALT-DESC;FMTTYPE=text/html:<p>Founded in 1996 by Artistic Director Daniel Hughes\, this award-winning ensemble has wowed audiences with high-level choral literature\, celebrating diverse traditions and pushing creative boundaries. Performing on prestigious stages worldwide\, they have garnered critical acclaim for their technical excellence and emotionally compelling artistry. This special Giving Back concert will showcase their latest selections for 2026.&nbsp\;</p>\n\n<p>&nbsp\; &nbsp\; &nbsp\;All donations will benefit Santa Maria Urban Ministry and its mission to feed the body\, mind and spirit of individuals in need. Tickets are not required\, so mark your calendars!</p>\n
LOCATION:Saint Andrew's Episcopal Church 13601 Saratoga Avenue Saratoga\, CA 95070
UID:e.517.10438
SEQUENCE:3
DTSTAMP:20260419T224200Z
URL:https://members.saratogachamber.org/events/details/the-choral-project-givng-back-concert-10438
END:VEVENT

END:VCALENDAR
