BEGIN:VCALENDAR
VERSION:2.0
PRODID:-//ChamberMaster//Event Calendar 2.0//EN
METHOD:PUBLISH
X-PUBLISHED-TTL:P3D
REFRESH-INTERVAL:P3D
CALSCALE:GREGORIAN
BEGIN:VEVENT
DTSTART:20090912T190000Z
DTEND:20090913T030000Z
X-MICROSOFT-CDO-ALLDAYEVENT:FALSE
SUMMARY:Taste of Saratoga Art and Wine Festival
DESCRIPTION:The annual Taste of Saratoga Festival is held in the Village on Big Basin Way between the intersections of Saratoga Ave\, Saratoga Sunnyvale Road\, and Saratoga Los-Gatos Road. Big Basin Way or Highway 9 are closed for the day to allow Arts\, Crafts\, and Businesses to provide their services in the middle of the street. The festival will be from 12 noon to 8 pm. There are Live Bands and music everywhere as well as a sampling of the fine wines available from the Santa Cruz Mountains and beyond. Food\, Soft Drinks\, and Beer are for sale in the festival. There are activities for the whole family so come and bring your family to this fun-filled event. Parking is available at West Valley College\, Argonaut Shopping Center\, and Saratoga High School with FREE shuttlebus service throughout the day for your convenience. Attendance at the festival is FREE as are the shuttle services\, but the food and dring are deicious so you might want to take advantage of what is considered a Taste of Saratoga!
X-ALT-DESC;FMTTYPE=text/html:<div>The annual <strong>Taste of Saratoga Festival </strong>is held in the Village on Big Basin Way between the intersections of Saratoga Ave\, Saratoga Sunnyvale Road\, and Saratoga Los-Gatos Road.</div><div>&nbsp\;</div><div>Big Basin Way or Highway 9 are closed for the day to allow Arts\, Crafts\, and Businesses to provide their services in the middle of the street. The festival will be from 12 noon to 8 pm.</div><div>&nbsp\;</div><div>There are <strong>Live Bands</strong> and music everywhere as well as a sampling of the<strong> fine wines </strong>available from the Santa Cruz Mountains and beyond. <strong>Food\, Soft Drinks\,&nbsp\;and Beer </strong>are for sale in the festival.</div><div>&nbsp\;</div><div>There are activities for the whole family so come and bring your family to this fun-filled event.</div><div>&nbsp\;</div><div><strong>Parking is available </strong>at West Valley College\, Argonaut Shopping Center\, and Saratoga High School with <strong>FREE&nbsp\;shuttlebus</strong> service throughout the day for your convenience.</div><div>&nbsp\;</div><div><strong>Attendance at the festival is FREE </strong>as are the shuttle services\, but the food and dring are deicious so you might want to take advantage of what is considered a <strong>Taste of Saratoga!</strong></div>
LOCATION:Big Basin Way also know as Highway 9 the gateway to the Santa Cruz Mountains
UID:e.517.180
SEQUENCE:3
DTSTAMP:20260424T142433Z
URL:https://members.saratogachamber.org/events/details/taste-of-saratoga-art-and-wine-festival-09-12-2009-180
END:VEVENT

END:VCALENDAR
