BEGIN:VCALENDAR
VERSION:2.0
PRODID:-//ChamberMaster//Event Calendar 2.0//EN
METHOD:PUBLISH
X-PUBLISHED-TTL:P3D
REFRESH-INTERVAL:P3D
CALSCALE:GREGORIAN
BEGIN:VEVENT
DTSTART:20110927T003000Z
DTEND:20110927T040000Z
X-MICROSOFT-CDO-ALLDAYEVENT:FALSE
SUMMARY:Taste of Compassion presents The Mynt
DESCRIPTION:West Valley Community Services presents Taste of Compassion hosted by The Mynt in San Jose on Monday\, September 26th and Tuesday\, September 27th. Tickets are $24 in advance\, $26 at the door. 50% of proceeds directly benefit services to prevent hunger and homelessness in Cupertino\, Saratoga\, Los Gatos\, Monte Sereno and West San Jose. Enjoy a great meal\, for a great cause!\n\n	Visit www.tasteofcompassion.org or call (408) 255-8033 ext. 152 for more information or to make reservations.
X-ALT-DESC;FMTTYPE=text/html:<p class="MsoNormal" style="line-height: normal\; margin: 0in 0in 0pt">\n	<font color="#000000" face="Calibri" size="3">West Valley Community Services presents Taste of Compassion hosted by The Mynt in San Jose on Monday\, September 26th and Tuesday\, September 27th. Tickets are $24 in advance\, $26 at the door. 50% of proceeds directly benefit services to prevent hunger and homelessness in Cupertino\, Saratoga\, Los Gatos\, Monte Sereno and West San Jose. Enjoy a great meal\, for a great cause!</font></p>\n<p class="MsoNormal" style="line-height: normal\; margin: 0in 0in 0pt">\n	<font color="#000000" face="Calibri" size="3">Visit www.tasteofcompassion.org or call (408) 255-8033 ext. 152 for more information or to make reservations.</font></p>\n
LOCATION:The Mynt 5210 Prospect Rd.\, San Jose\, CA 95129
UID:e.517.1264
SEQUENCE:3
DTSTAMP:20260421T122614Z
URL:https://members.saratogachamber.org/events/details/taste-of-compassion-presents-the-mynt-09-26-2011-1264
END:VEVENT

END:VCALENDAR
