BEGIN:VCALENDAR
VERSION:2.0
PRODID:-//ChamberMaster//Event Calendar 2.0//EN
METHOD:PUBLISH
X-PUBLISHED-TTL:P3D
REFRESH-INTERVAL:P3D
CALSCALE:GREGORIAN
BEGIN:VEVENT
DTSTART:20110724T003000Z
DTEND:20110724T040000Z
X-MICROSOFT-CDO-ALLDAYEVENT:FALSE
SUMMARY:Taste of Compassion presents Park Place Restaurant
DESCRIPTION:West Valley Community Services celebrates the one year anniversary of its' Taste of Compassion fundraising program.  Join us for a delicious dinner hosted by Park Place Restaurant in Cupertino on Saturday\, July 23 and Sunday\, July 24.  Reservations are available at 5:30 PM and 7:30 PM on both nights.  Tickets are $24 in advance\, $26 at the door. 50% of proceeds directly benefit services to prevent hunger and homelessness in Cupertino\, Saratoga\, Los Gatos\, Monte Sereno and West San Jose. Enjoy a great meal\, for a great cause!\n\n	Visit www.tasteofcompassion.org or call (408) 255-8033 ext. 152 for more information or to make reservations.
X-ALT-DESC;FMTTYPE=text/html:<p class="MsoNormal" style="line-height: normal\; margin: 0in 0in 0pt">\n	<font color="#000000" face="Calibri" size="3">West Valley Community Services celebrates the one year anniversary of its&rsquo\; Taste of Compassion fundraising program.<span style="mso-spacerun: yes">&nbsp\; </span>Join us for a delicious dinner hosted by Park Place Restaurant in Cupertino on Saturday\, July 23 and Sunday\, July 24.<span style="mso-spacerun: yes">&nbsp\; </span>Reservations are available at 5:30 PM and 7:30 PM on both nights.<span style="mso-spacerun: yes">&nbsp\; </span>Tickets are $24 in advance\, $26 at the door. 50% of proceeds directly benefit services to prevent hunger and homelessness in Cupertino\, Saratoga\, Los Gatos\, Monte Sereno and West San Jose. Enjoy a great meal\, for a great cause!</font></p>\n<p class="MsoNormal" style="line-height: normal\; margin: 0in 0in 0pt">\n	<font color="#000000" face="Calibri" size="3">Visit www.tasteofcompassion.org or call (408) 255-8033 ext. 152 for more information or to make reservations.</font></p>\n
LOCATION:Park Place Restuarant 10030 South De Anza Blvd. Cupertino\, CA 95014
UID:e.517.1108
SEQUENCE:3
DTSTAMP:20260423T104354Z
URL:https://members.saratogachamber.org/events/details/taste-of-compassion-presents-park-place-restaurant-07-23-2011-1108
END:VEVENT

END:VCALENDAR
