BEGIN:VCALENDAR
VERSION:2.0
PRODID:-//ChamberMaster//Event Calendar 2.0//EN
METHOD:PUBLISH
X-PUBLISHED-TTL:P3D
REFRESH-INTERVAL:P3D
CALSCALE:GREGORIAN
BEGIN:VEVENT
DTSTART:20100921T000000Z
DTEND:20100921T030000Z
X-MICROSOFT-CDO-ALLDAYEVENT:FALSE
SUMMARY:Taste of Compassion
DESCRIPTION:Try a new restaurant or a new dish at an old favorite!\n\n\n\nTaste of Compassion is a special partnership with local restaurants to support West Valley Community Services. With the purchase of a $24 ticket\, diners can enjoy a great meal for a great cause! This month?s partner is Outback Steakhouse in Cupertino and the menu includes a Caesar salad\, your choice of beef medallions\, chicken breast\, or vegetable skewer served with rice pilaf\, cheese cake for dessert and your choice of non-alcoholic beverage.\n\n\n\nWest Valley Community Services\, or WVCS\, is a private non-profit\, community-based agency that has been providing direct assistance and referral services to the west valley communities of Santa Clara County for over 37 years. WVCS provides a continuum of basic needs\, family support services and housing services including: information and referrals\, food pantry\, clothing\, shelter\, transitional housing\, affordable housing\, emergency financial assistance\, family resource and support programs\, and case management services.
X-ALT-DESC;FMTTYPE=text/html:Try a new restaurant or a new dish at an old favorite!\n<br>\n<br>Taste of Compassion is a special partnership with local restaurants to support West Valley Community Services. With the purchase of a $24 ticket\, diners can enjoy a great meal for a great cause! This month?s partner is Outback Steakhouse in Cupertino and the menu includes a Caesar salad\, your choice of beef medallions\, chicken breast\, or vegetable skewer served with rice pilaf\, cheese cake for dessert and your choice of non-alcoholic beverage.\n<br>\n<br>West Valley Community Services\, or WVCS\, is a private non-profit\, community-based agency that has been providing direct assistance and referral services to the west valley communities of Santa Clara County for over 37 years. WVCS provides a continuum of basic needs\, family support services and housing services including: information and referrals\, food pantry\, clothing\, shelter\, transitional housing\, affordable housing\, emergency financial assistance\, family resource and support programs\, and case management services.
LOCATION:Outback Steakhouse | 20630 Valley Green Drive | Cupertino\, CA 95014
UID:e.517.276
SEQUENCE:3
DTSTAMP:20260423T215653Z
URL:https://members.saratogachamber.org/events/details/taste-of-compassion-09-20-2010-276
END:VEVENT

END:VCALENDAR
