BEGIN:VCALENDAR
VERSION:2.0
PRODID:-//ChamberMaster//Event Calendar 2.0//EN
METHOD:PUBLISH
X-PUBLISHED-TTL:P3D
REFRESH-INTERVAL:P3D
CALSCALE:GREGORIAN
BEGIN:VEVENT
DTSTART:20100206T030000Z
DTEND:20100206T050000Z
X-MICROSOFT-CDO-ALLDAYEVENT:FALSE
SUMMARY:Steinbeck's Wrath\, 1936-1939: The Santa Clara Valley Years
DESCRIPTION:?Steinbeck's Wrath\, 1936-1939: The Santa Clara Valley Years? by noted author and Steinbeck authority Susan Shillinglaw will be given on February 5 from 7-9 PM. The event will be held at the Foothill Club (20399 Park Place Saratoga CA 95070) and is a fundraiser for the Saratoga History Museum. Museum members will be charged $15 and nonmembers\, $20. To purchase a ticket\, call  (408)255-1883?during the day. \n\n Coffee and dessert will be served.\n\nWell-known author John Steinbeck lived locally in this area and his wife\, Carol Henning\, grew up in Santa Clara Valley. They lived in a small house in Los Gatos where Steinbeck completed Of Mice and Men\, and where he researched and wrote The Grapes of Wrath.
X-ALT-DESC;FMTTYPE=text/html:?Steinbeck's Wrath\, 1936-1939: The Santa Clara Valley Years? by noted author and Steinbeck authority Susan Shillinglaw will be given on February 5 from 7-9 PM. The event will be held at the Foothill Club (20399 Park Place Saratoga CA 95070) and is a fundraiser for the Saratoga History Museum. Museum members will be charged $15 and nonmembers\, $20. To purchase a ticket\, call  (408)255-1883?during the day. \n<br> Coffee and dessert will be served.\n<br>Well-known author John Steinbeck lived locally in this area and his wife\, Carol Henning\, grew up in Santa Clara Valley. They lived in a small house in Los Gatos where Steinbeck completed Of Mice and Men\, and where he researched and wrote The Grapes of Wrath. \n<br>
LOCATION:The Foothill Club at 20399 Park Place\, Saratoga\, CA
UID:e.517.208
SEQUENCE:3
DTSTAMP:20260424T072034Z
URL:https://members.saratogachamber.org/events/details/steinbeck-s-wrath-1936-1939-the-santa-clara-valley-years-02-05-2010-208
END:VEVENT

END:VCALENDAR
