BEGIN:VCALENDAR
VERSION:2.0
PRODID:-//ChamberMaster//Event Calendar 2.0//EN
METHOD:PUBLISH
X-PUBLISHED-TTL:P3D
REFRESH-INTERVAL:P3D
CALSCALE:GREGORIAN
BEGIN:VEVENT
DTSTART:20110331T020000Z
DTEND:20110331T033000Z
X-MICROSOFT-CDO-ALLDAYEVENT:FALSE
SUMMARY:STATE OF THE ARE ARTHRITIS SURGERY OF THE HIP\, KNEE AND SHOULDER
DESCRIPTION:Hear about the latest state of the art procedures for arthritis surgery of the hip\, knee and shoulder.\n\nAn interactive lecture and Q & A session led by Paul Dossick\, MD\, orthopedic surgeon.
X-ALT-DESC;FMTTYPE=text/html:Hear about the latest state of the art procedures for arthritis surgery of the hip\, knee and shoulder.\n<br>An interactive lecture and Q &amp\; A session led by Paul Dossick\, MD\, orthopedic surgeon.
LOCATION:El Camino Hospital Los Gatos 815 Pollart Road\, Los Gatos Conference Center\, rooms 1 & 2 Convenient parking
UID:e.517.342
SEQUENCE:3
DTSTAMP:20260423T143557Z
URL:https://members.saratogachamber.org/events/details/state-of-the-are-arthritis-surgery-of-the-hip-knee-and-shoulder-03-30-2011-342
END:VEVENT

END:VCALENDAR
