BEGIN:VCALENDAR
VERSION:2.0
PRODID:-//ChamberMaster//Event Calendar 2.0//EN
METHOD:PUBLISH
X-PUBLISHED-TTL:P3D
REFRESH-INTERVAL:P3D
CALSCALE:GREGORIAN
BEGIN:VEVENT
DTSTART:20110325T010000Z
DTEND:20110325T023000Z
X-MICROSOFT-CDO-ALLDAYEVENT:FALSE
SUMMARY:Soroptimist International Women's Achievement Awards Celebration
DESCRIPTION:Come learn more about Soroptimist International and the work we do locally.  This evening\, we will be giving out two Women's Opportunity Awards to members of the community.  The Women's Opportunity Award  was developed to assist woman entering or re-entering the work force and meant to help them in obtaining the education\, skills and training that they need to improve their employment status. Woman's Opportunity Awards are designed to give women heads of household who provide the primary source of financial support for their families the opportunity to achieve their career goals.
X-ALT-DESC;FMTTYPE=text/html:Come learn more about Soroptimist International and the work we do locally.  This evening\, we will be giving out two Women's Opportunity Awards to members of the community.  The Women's Opportunity Award  was developed to assist woman entering or re-entering the work force and meant to help them in obtaining the education\, skills and training that they need to improve their employment status. Woman's Opportunity Awards are designed to give women heads of household who provide the primary source of financial support for their families the opportunity to achieve their career goals.
LOCATION:Los Gatos Lodge\, 50 Los Gatos Saratoga Rd\, Los Gatos\, CA 95032
UID:e.517.341
SEQUENCE:3
DTSTAMP:20260423T152626Z
URL:https://members.saratogachamber.org/events/details/soroptimist-international-women-s-achievement-awards-celebration-03-24-2011-341
END:VEVENT

END:VCALENDAR
