BEGIN:VCALENDAR
VERSION:2.0
PRODID:-//ChamberMaster//Event Calendar 2.0//EN
METHOD:PUBLISH
X-PUBLISHED-TTL:P3D
REFRESH-INTERVAL:P3D
CALSCALE:GREGORIAN
BEGIN:VEVENT
DTSTART:20110430T220000Z
DTEND:20110501T010000Z
X-MICROSOFT-CDO-ALLDAYEVENT:FALSE
SUMMARY:Silent Auction at Saratoga Parent Nursery School
DESCRIPTION:Saratoga Parent Nursery School (SPNS) is proud to announce our annual Silent Auction on Saturday\, April 30\, 2011 from 3:00 p.m. to 6:00 p.m. This year's Hawaiian themed event will be hosted at our school located at 20490 Williams Avenue\, Saratoga\, Ca 95070.  \n\n\n\nThe event will feature Hawaiian-styled food\, live DJ music\, and karaoke. Come dressed in your favorite Don Ho Hawaiian shirt or colorfully printed Hawaiian dress.  Buy a bottle of the finest wine to sip while you dance the night away or to take it home to enjoy later.  Bid on one-of-a-kind items to help support our wonderful school. Buy a raffle ticket to win a family get-away to Monterey\, a day at the spa\, or a golf package for 4.  Mingle with SPNS parents and have a fabulous time!\n\n\n\nFor more information or if you would like to make a monetary donation\, please visit www.SaratogaParentNurserySchool.org or email fundraise@SaratogaParentNurserySchool.org\n\n\n\nOur Silent Auction is an adults only event.  Please no children. Admission is Free.\n\n\n\nSaratoga Parent Nursery School is a non-profit parent participation preschool. We have programs for children ages 18 months to 5 years old. Our school provides a friendly and supportive nursery school community dedicated to a play-based\, developmental teaching program.
X-ALT-DESC;FMTTYPE=text/html:Saratoga Parent Nursery School (SPNS) is proud to announce our annual Silent Auction on Saturday\, April 30\, 2011 from 3:00 p.m. to 6:00 p.m. This year's Hawaiian themed event will be hosted at our school located at 20490 Williams Avenue\, Saratoga\, Ca 95070.  \n<br>\n<br>The event will feature Hawaiian-styled food\, live DJ music\, and karaoke. Come dressed in your favorite Don Ho Hawaiian shirt or colorfully printed Hawaiian dress.  Buy a bottle of the finest wine to sip while you dance the night away or to take it home to enjoy later.  Bid on one-of-a-kind items to help support our wonderful school. Buy a raffle ticket to win a family get-away to Monterey\, a day at the spa\, or a golf package for 4.  Mingle with SPNS parents and have a fabulous time!\n<br>\n<br>For more information or if you would like to make a monetary donation\, please visit www.SaratogaParentNurserySchool.org or email fundraise@SaratogaParentNurserySchool.org\n<br>\n<br>Our Silent Auction is an adults only event.  Please no children. Admission is Free.\n<br>\n<br>Saratoga Parent Nursery School is a non-profit parent participation preschool. We have programs for children ages 18 months to 5 years old. Our school provides a friendly and supportive nursery school community dedicated to a play-based\, developmental teaching program.\n<br>
LOCATION:Saratoga Parent Nursery School 20490 Williams Avenue Saratoga\, Ca 95070
UID:e.517.352
SEQUENCE:3
DTSTAMP:20260423T130643Z
URL:https://members.saratogachamber.org/events/details/silent-auction-at-saratoga-parent-nursery-school-04-30-2011-352
END:VEVENT

END:VCALENDAR
