BEGIN:VCALENDAR
VERSION:2.0
PRODID:-//ChamberMaster//Event Calendar 2.0//EN
METHOD:PUBLISH
X-PUBLISHED-TTL:P3D
REFRESH-INTERVAL:P3D
CALSCALE:GREGORIAN
BEGIN:VEVENT
DTSTART:20100917T003000Z
DTEND:20100917T020000Z
X-MICROSOFT-CDO-ALLDAYEVENT:FALSE
SUMMARY:September Mixer / Saratoga Springs Camp Grounds - Sept. 16
DESCRIPTION:Monthly Mixer - Promote your Business or connect with Chamber Members and others.
X-ALT-DESC;FMTTYPE=text/html:<div><div>Monthly Mixer - Promote your Business&nbsp\;or connect with Chamber Members and others.</div></div>
LOCATION:Saratoga Springs22801 Big Basin WaySaratoga\, CA
UID:e.517.267
SEQUENCE:3
DTSTAMP:20260423T215707Z
URL:https://members.saratogachamber.org/events/details/september-mixer-saratoga-springs-camp-grounds-sept-16-09-16-2010-267
END:VEVENT

END:VCALENDAR
