BEGIN:VCALENDAR
VERSION:2.0
PRODID:-//ChamberMaster//Event Calendar 2.0//EN
METHOD:PUBLISH
X-PUBLISHED-TTL:P3D
REFRESH-INTERVAL:P3D
CALSCALE:GREGORIAN
BEGIN:VEVENT
DTSTART;VALUE=DATE:20100411
DTEND;VALUE=DATE:20100412
TRANSP:TRANSPARENT
X-MICROSOFT-CDO-ALLDAYEVENT:TRUE
SUMMARY:Savor Saratoga: Wine & Wisteria II
DESCRIPTION:Savor Saratoga: Wine and Wisteria II will take place Sunday\, April 11 from 5 to 7:30 PM at the historic Hakone Gardens 921000 Big Basin Way) in Saratoga.\n\n\n\n   The event will feature wine tasting and hors d'oeuvres from some of the best known Saratoga wineries and restaurants. A silent auction will feature items donated by many of hte local businesses.\n\n\n\n   Proceeds from the event will be used to fund plaques for historic Saratoga buildings\, banners\, as well as a new sign for the entrance to the Saratoga Village by the Saratoga Village Development Council (SVDC)  \n\n\n\n   The Hakone Gardens is the oldest Japanese and Asian estate garden in the US\, established in 1915. It is an authentic replica of a Japanese Samurai or Shogun's estate garden. It was also used for filming Memoris of a geisha.\n\n\n\n   Tickets can be purchased for $35 at ME Benson (14486 Big Basin Way)\; the Butter Paddle (14510 Big basin Way)\, deja & Co. (14567 Big Basin Way)\, Michael Anthony Salon (14485 Big basin Way)\, and Skin Prophecy Boutique (14531 Big Basin Way).   \n\n\n\nFor more information\, call Jill Hunter (408) 741-1213 or go to http://www.saratogavillage.info.\n\n\n\n     ###
X-ALT-DESC;FMTTYPE=text/html:Savor Saratoga: Wine and Wisteria II will take place Sunday\, April 11 from 5 to 7:30 PM at the historic Hakone Gardens 921000 Big Basin Way) in Saratoga.\n<br>\n<br>   The event will feature wine tasting and hors d'oeuvres from some of the best known Saratoga wineries and restaurants. A silent auction will feature items donated by many of hte local businesses.\n<br>\n<br>   Proceeds from the event will be used to fund plaques for historic Saratoga buildings\, banners\, as well as a new sign for the entrance to the Saratoga Village by the Saratoga Village Development Council (SVDC)&gt\; \n<br>\n<br>   The Hakone Gardens is the oldest Japanese and Asian estate garden in the US\, established in 1915. It is an authentic replica of a Japanese Samurai or Shogun's estate garden. It was also used for filming Memoris of a geisha.\n<br>\n<br>   Tickets can be purchased for $35 at ME Benson (14486 Big Basin Way)\; the Butter Paddle (14510 Big basin Way)\, deja &amp\; Co. (14567 Big Basin Way)\, Michael Anthony Salon (14485 Big basin Way)\, and Skin Prophecy Boutique (14531 Big Basin Way).   \n<br>\n<br>For more information\, call Jill Hunter (408) 741-1213 or go to http://www.saratogavillage.info.\n<br>\n<br>     ###\n<br>\n<br>
LOCATION:Hakone Gardens at 21000 Big Basin Way\, Saratoga\, CA
UID:e.517.229
SEQUENCE:3
DTSTAMP:20260424T055721Z
URL:https://members.saratogachamber.org/events/details/savor-saratoga-wine-wisteria-ii-04-11-2010-229
END:VEVENT

END:VCALENDAR
