BEGIN:VCALENDAR
VERSION:2.0
PRODID:-//ChamberMaster//Event Calendar 2.0//EN
METHOD:PUBLISH
X-PUBLISHED-TTL:P3D
REFRESH-INTERVAL:P3D
CALSCALE:GREGORIAN
BEGIN:VEVENT
DTSTART:20240214T200000Z
DTEND:20240214T220000Z
X-MICROSOFT-CDO-ALLDAYEVENT:FALSE
SUMMARY:SASCC Valentine's Day Luncheon
DESCRIPTION:Looking for something to do on Valentine's Day? Bring your partner\, family\, or friend\,\n\nto our Valentine's Day Luncheon at the Saratoga Senior Center!\n\n\n\nWe will have a special performance by the students of Argonaut Elementary\, raffle\,\n\nand food!
X-ALT-DESC;FMTTYPE=text/html:<span style="font-size:14px\;"><span style="font-family:arial\;"><span style="border: 0px\; font-variant-ligatures: common-ligatures\; font-variant-numeric: inherit\; font-variant-east-asian: inherit\; font-variant-alternates: inherit\; font-variant-position: inherit\; font-stretch: inherit\; line-height: inherit\; font-optical-sizing: inherit\; font-kerning: inherit\; font-feature-settings: inherit\; font-variation-settings: inherit\; margin: 0px\; padding: 0px\; vertical-align: baseline\; color: rgb(29\, 28\, 29)\;">Looking for something to do on Valentine&#39\;s Day?&nbsp\;Bring your partner\, family\, or friend\,<br />\nto our Valentine&#39\;s Day Luncheon at the Saratoga Senior Center!<br />\n<br />\nWe will have a special performance by the students of Argonaut Elementary\, raffle\,<br />\nand food!</span></span></span><br aria-hidden="true" style="font-size: large\; box-sizing: inherit\; color: rgb(29\, 28\, 29)\; font-family: Slack-Lato\, Slack-Fractions\, appleLogo\, sans-serif\; font-variant-ligatures: common-ligatures\;" />\n&nbsp\;
LOCATION:
UID:e.517.9388
SEQUENCE:3
DTSTAMP:20260421T060957Z
URL:https://members.saratogachamber.org/events/details/sascc-valentine-s-day-luncheon-9388
END:VEVENT

END:VCALENDAR
