BEGIN:VCALENDAR
VERSION:2.0
PRODID:-//ChamberMaster//Event Calendar 2.0//EN
METHOD:PUBLISH
X-PUBLISHED-TTL:P3D
REFRESH-INTERVAL:P3D
CALSCALE:GREGORIAN
BEGIN:VEVENT
DTSTART:20090822T200000Z
DTEND:20091026T230000Z
X-MICROSOFT-CDO-ALLDAYEVENT:FALSE
SUMMARY:Saratogans Remember Wartime: The Civil War
DESCRIPTION:
X-ALT-DESC;FMTTYPE=text/html:
LOCATION:Saratoga History Museum at 20450 Saratoga-Los Gatos Road Saratoga
UID:e.517.200
SEQUENCE:3
DTSTAMP:20260424T130040Z
URL:https://members.saratogachamber.org/events/details/saratogans-remember-wartime-the-civil-war-08-22-2009-200
END:VEVENT

END:VCALENDAR
