BEGIN:VCALENDAR
VERSION:2.0
PRODID:-//ChamberMaster//Event Calendar 2.0//EN
METHOD:PUBLISH
X-PUBLISHED-TTL:P3D
REFRESH-INTERVAL:P3D
CALSCALE:GREGORIAN
BEGIN:VEVENT
DTSTART:20100822T010000Z
DTEND:20100822T040000Z
X-MICROSOFT-CDO-ALLDAYEVENT:FALSE
SUMMARY:Saratoga Swings Dance / Bollywood
DESCRIPTION:Dance to musicFeaturing 3 Classic Bollywood DancesCome dance to Live DJ Music
X-ALT-DESC;FMTTYPE=text/html:<div>Dance to music</div><div>Featuring 3 Classic Bollywood Dances</div><div>Come dance to Live DJ Music</div>
LOCATION:Big Basin Way\, downtown SaratogaBank of America parking lot
UID:e.517.272
SEQUENCE:3
DTSTAMP:20260423T231737Z
URL:https://members.saratogachamber.org/events/details/saratoga-swings-dance-bollywood-08-21-2010-272
END:VEVENT

END:VCALENDAR
