BEGIN:VCALENDAR
VERSION:2.0
PRODID:-//ChamberMaster//Event Calendar 2.0//EN
METHOD:PUBLISH
X-PUBLISHED-TTL:P3D
REFRESH-INTERVAL:P3D
CALSCALE:GREGORIAN
BEGIN:VEVENT
DTSTART:20100718T003000Z
DTEND:20100718T023000Z
X-MICROSOFT-CDO-ALLDAYEVENT:FALSE
SUMMARY:Saratoga Swings Dance
DESCRIPTION:Dance to musicFeaturing: Richard Keane plus one - Classic Pop 'N' Roll
X-ALT-DESC;FMTTYPE=text/html:<div>Dance to music</div><div>Featuring: Richard Keane plus one - Classic Pop &rsquo\;N&rsquo\; Roll</div>
LOCATION:Big Basin Way\, downtown SaratogaBank of America parking lot
UID:e.517.271
SEQUENCE:3
DTSTAMP:20260424T004136Z
URL:https://members.saratogachamber.org/events/details/saratoga-swings-dance-07-17-2010-271
END:VEVENT

END:VCALENDAR
