BEGIN:VCALENDAR
VERSION:2.0
PRODID:-//ChamberMaster//Event Calendar 2.0//EN
METHOD:PUBLISH
X-PUBLISHED-TTL:P3D
REFRESH-INTERVAL:P3D
CALSCALE:GREGORIAN
BEGIN:VEVENT
DTSTART:20090802T000000Z
DTEND:20090802T030000Z
X-MICROSOFT-CDO-ALLDAYEVENT:FALSE
SUMMARY:Saratoga Swings - Bollywood
DESCRIPTION:"Bollywood"
X-ALT-DESC;FMTTYPE=text/html:<div>&quot\;Bollywood&quot\;</div>
LOCATION:Saratoga Village Bank of America parking lot on Big Basin Way\, Saratoga\, CA.
UID:e.517.189
SEQUENCE:3
DTSTAMP:20260424T155934Z
URL:https://members.saratogachamber.org/events/details/saratoga-swings-bollywood-08-01-2009-189
END:VEVENT

END:VCALENDAR
