BEGIN:VCALENDAR
VERSION:2.0
PRODID:-//ChamberMaster//Event Calendar 2.0//EN
METHOD:PUBLISH
X-PUBLISHED-TTL:P3D
REFRESH-INTERVAL:P3D
CALSCALE:GREGORIAN
BEGIN:VEVENT
DTSTART:20110717T010000Z
DTEND:20110717T030000Z
X-MICROSOFT-CDO-ALLDAYEVENT:FALSE
SUMMARY:Saratoga Swings
DESCRIPTION:Entertainment TBA
X-ALT-DESC;FMTTYPE=text/html:Entertainment TBA
LOCATION:Bank of America parking lot Big Basin Way Saratoga\, CA
UID:e.517.323
SEQUENCE:3
DTSTAMP:20260423T093103Z
URL:https://members.saratogachamber.org/events/details/saratoga-swings-07-16-2011-323
END:VEVENT

END:VCALENDAR
