BEGIN:VCALENDAR
VERSION:2.0
PRODID:-//ChamberMaster//Event Calendar 2.0//EN
METHOD:PUBLISH
X-PUBLISHED-TTL:P3D
REFRESH-INTERVAL:P3D
CALSCALE:GREGORIAN
BEGIN:VEVENT
DTSTART:20090719T000000Z
DTEND:20090719T030000Z
X-MICROSOFT-CDO-ALLDAYEVENT:FALSE
SUMMARY:Saratoga Swing Dance
DESCRIPTION:Dance to music - Featuring "Keane & West" classic Pop 'n' Rock
X-ALT-DESC;FMTTYPE=text/html:<div>Dance to music - Featuring &quot\;Keane &amp\; West&quot\; classic Pop &rsquo\;n&rsquo\; Rock</div>
LOCATION:Saratoga Village Bank of America parking lot on Big Basin Way\, Saratoga\, CA.
UID:e.517.181
SEQUENCE:3
DTSTAMP:20260424T170113Z
URL:https://members.saratogachamber.org/events/details/saratoga-swing-dance-07-18-2009-181
END:VEVENT

END:VCALENDAR
