BEGIN:VCALENDAR
VERSION:2.0
PRODID:-//ChamberMaster//Event Calendar 2.0//EN
METHOD:PUBLISH
X-PUBLISHED-TTL:P3D
REFRESH-INTERVAL:P3D
CALSCALE:GREGORIAN
BEGIN:VEVENT
DTSTART:20110129T180000Z
DTEND:20110129T220000Z
X-MICROSOFT-CDO-ALLDAYEVENT:FALSE
SUMMARY:Saratoga Parent Nursery School OPEN HOUSE
DESCRIPTION:Come join our award-winning parent participation preschool.\n\nSPNS is exciting preschool that features a developmentally\n\nappropriate curriculum for our Wiggle Worms\, Teddy Bears\,\n\nStars and Pre-K classes.\n\n\n\n? Social Development\n\n? Music & Movement\n\n? Arts & Crafts\n\n? Creative Play\n\n? Pre-reading skills\n\n? Pre-math skills\n\n? Science\n\n? Field Trips\n\n? Manipulatives\n\n? Creative ?Writing?\n\n? Cooking\n\n? Outdoor play\n\n\n\nSPNS Features:\n\n? Low student to adult ratio\n\n? Award-winning facility design\n\n? Credentialed teachers\n\n? Family Involvement\n\n? Ages 18 months ? 5.5 years\n\n? No potty training required\n\n? Financial Assistance Available\n\n\n\nCall us at (408) 867-9774 to schedule a private tour.
X-ALT-DESC;FMTTYPE=text/html:Come join our award-winning parent participation preschool.\n<br>SPNS is exciting preschool that features a developmentally\n<br>appropriate curriculum for our Wiggle Worms\, Teddy Bears\,\n<br>Stars and Pre-K classes.\n<br>\n<br>? Social Development\n<br>? Music &amp\; Movement\n<br>? Arts &amp\; Crafts\n<br>? Creative Play\n<br>? Pre-reading skills\n<br>? Pre-math skills\n<br>? Science\n<br>? Field Trips\n<br>? Manipulatives\n<br>? Creative ?Writing?\n<br>? Cooking\n<br>? Outdoor play\n<br>\n<br>SPNS Features:\n<br>? Low student to adult ratio\n<br>? Award-winning facility design\n<br>? Credentialed teachers\n<br>? Family Involvement\n<br>? Ages 18 months ? 5.5 years\n<br>? No potty training required\n<br>? Financial Assistance Available\n<br>\n<br>Call us at (408) 867-9774 to schedule a private tour.
LOCATION:20490 Williams Ave.\, Saratoga\, CA 95070
UID:e.517.315
SEQUENCE:3
DTSTAMP:20260423T170755Z
URL:https://members.saratogachamber.org/events/details/saratoga-parent-nursery-school-open-house-01-29-2011-315
END:VEVENT

END:VCALENDAR
