BEGIN:VCALENDAR
VERSION:2.0
PRODID:-//ChamberMaster//Event Calendar 2.0//EN
METHOD:PUBLISH
X-PUBLISHED-TTL:P3D
REFRESH-INTERVAL:P3D
CALSCALE:GREGORIAN
BEGIN:VEVENT
DTSTART:20100924T000000Z
DTEND:20100924T030000Z
X-MICROSOFT-CDO-ALLDAYEVENT:FALSE
SUMMARY:Saratoga Parent Nursery School Fundraiser
DESCRIPTION:Back to school fundraiser to support Saratoga Parent Nursery School.  Come support your local nursery school.  Bring in your flyer and 10% of proceeds will be donated back to the school.
X-ALT-DESC;FMTTYPE=text/html:Back to school fundraiser to support Saratoga Parent Nursery School.  Come support your local nursery school.  Bring in your flyer and 10% of proceeds will be donated back to the school. 
LOCATION:Jake's of Saratoga 12175 Saratoga Sunnyvale Road
UID:e.517.280
SEQUENCE:3
DTSTAMP:20260423T215838Z
URL:https://members.saratogachamber.org/events/details/saratoga-parent-nursery-school-fundraiser-09-23-2010-280
END:VEVENT

END:VCALENDAR
