BEGIN:VCALENDAR
VERSION:2.0
PRODID:-//ChamberMaster//Event Calendar 2.0//EN
METHOD:PUBLISH
X-PUBLISHED-TTL:P3D
REFRESH-INTERVAL:P3D
CALSCALE:GREGORIAN
BEGIN:VEVENT
DTSTART:20251003T000000Z
DTEND:20251003T030000Z
X-MICROSOFT-CDO-ALLDAYEVENT:FALSE
SUMMARY:Saratoga Nights
DESCRIPTION:Register to be a vendor at  https://bit.ly/SNvendoroct25
X-ALT-DESC;FMTTYPE=text/html:Register to be a vendor at&nbsp\;&nbsp\;<a href="https://bit.ly/SNvendoroct25">https://bit.ly/SNvendoroct25</a>
LOCATION:Saratoga Village Parking Lot
UID:e.517.10150
SEQUENCE:3
DTSTAMP:20260420T050721Z
URL:https://members.saratogachamber.org/events/details/saratoga-nights-10-03-2025-10150
END:VEVENT

END:VCALENDAR
