BEGIN:VCALENDAR
VERSION:2.0
PRODID:-//ChamberMaster//Event Calendar 2.0//EN
METHOD:PUBLISH
X-PUBLISHED-TTL:P3D
REFRESH-INTERVAL:P3D
CALSCALE:GREGORIAN
BEGIN:VEVENT
DTSTART:20250704T000000Z
DTEND:20250704T030000Z
X-MICROSOFT-CDO-ALLDAYEVENT:FALSE
SUMMARY:Saratoga Nights
DESCRIPTION:
X-ALT-DESC;FMTTYPE=text/html:
LOCATION:Saratoga Village Parking Lot
UID:e.517.10147
SEQUENCE:3
DTSTAMP:20260420T073805Z
URL:https://members.saratogachamber.org/events/details/saratoga-nights-07-03-2025-10147
END:VEVENT

END:VCALENDAR
