BEGIN:VCALENDAR
VERSION:2.0
PRODID:-//ChamberMaster//Event Calendar 2.0//EN
METHOD:PUBLISH
X-PUBLISHED-TTL:P3D
REFRESH-INTERVAL:P3D
CALSCALE:GREGORIAN
BEGIN:VEVENT
DTSTART:20110530T163000Z
DTEND:20110530T180000Z
X-MICROSOFT-CDO-ALLDAYEVENT:FALSE
SUMMARY:Saratoga Memorial Day Ceremony
DESCRIPTION:At 9:30am there will be a "gathering of community" at the Memorial Arch in Blaney Plaza which will include presentation of the wreath to be placed at the Arch in honor of all Veterans of all wars.  The wreath will be presented by Alex Nugent\, president of the Saratoga Foothill Club.  Saratoga Schools\, Civic and Community Service will be represented.  A walk with the flag and Saratoga High Band members will go up Oak Street to Madronia Cemetery.  At 10:00am the Memorial Ceremony will be held at the Cemetery with Presentation of the Colors by Boy Scout Troop 535.  National Anthem will be the Saratoga High Band and Choir.  The Saratoga Girl Scout troops make the wreaths for the Veterans graves and Boy Scouts place flags on each grave.\n\n(Sponsored by the Saratoga Foothill Club & City of Saratoga)
X-ALT-DESC;FMTTYPE=text/html:At 9:30am there will be a &quot\;gathering of community&quot\; at the Memorial Arch in Blaney Plaza which will include presentation of the wreath to be placed at the Arch in honor of all Veterans of all wars.&nbsp\; The wreath will be presented by Alex Nugent\, president of the Saratoga Foothill Club.&nbsp\; Saratoga Schools\, Civic and Community Service will be represented.&nbsp\; A walk with the flag and Saratoga High Band members will go up Oak Street to Madronia Cemetery.&nbsp\; At 10:00am the Memorial Ceremony will be held at the Cemetery with Presentation of the Colors by Boy Scout Troop 535.&nbsp\; National Anthem will be the Saratoga High Band and Choir.&nbsp\; The Saratoga Girl Scout troops make the wreaths for the Veterans graves and Boy Scouts place flags on each grave.<br />\n(Sponsored by the Saratoga Foothill Club &amp\; City of Saratoga)<br />\n&nbsp\;
LOCATION:Blaney Plaza & Madronia Cemetery Saratoga\, CA
UID:e.517.356
SEQUENCE:3
DTSTAMP:20260423T115915Z
URL:https://members.saratogachamber.org/events/details/saratoga-memorial-day-ceremony-05-30-2011-356
END:VEVENT

END:VCALENDAR
