BEGIN:VCALENDAR
VERSION:2.0
PRODID:-//ChamberMaster//Event Calendar 2.0//EN
METHOD:PUBLISH
X-PUBLISHED-TTL:P3D
REFRESH-INTERVAL:P3D
CALSCALE:GREGORIAN
BEGIN:VEVENT
DTSTART;VALUE=DATE:20110629
DTEND;VALUE=DATE:20110702
TRANSP:TRANSPARENT
X-MICROSOFT-CDO-ALLDAYEVENT:TRUE
SUMMARY:Saratoga MarketPlace delayed Press Release
DESCRIPTION:Saratoga Village MarketPlace Start Date Temporarily Delayed:\n\nMarketPlace Will NOT Open on June 29th as Anticipated\n\n \n\nThe Saratoga MarketPlace organizers are working through some last minute permitting details that have unfortunately put the Wednesday\, June 29\, 2011 start date in jeopardy. They hope to resolve all compliance requirements within the next 10 days\, and will be announcing a firm date for the opening of the MarketPlace once permitting issues are ironed out. While they regret any inconvenience to the public and the participating vendors due to this delay\, they wish to ensure proper execution of vendor contracts\, as well as county and regulatory agency requirements\, prior to commencement of the MarketPlace. A new opening date will be announced as soon as these conditions have been met.  \n\n-##-
X-ALT-DESC;FMTTYPE=text/html:<span style="font-size: medium"><span style="font-family: calibri">Saratoga Village MarketPlace Start Date Temporarily Delayed:</span></span><br />\n<span style="font-size: medium"><span style="font-family: calibri">MarketPlace Will NOT Open on June 29th as Anticipated</span></span><br />\n&nbsp\;<br />\n<span style="font-size: medium"><span style="font-family: calibri">The Saratoga MarketPlace organizers are working through some last minute permitting details that have unfortunately put the Wednesday\, June 29\, 2011 start date in jeopardy. They hope to resolve all compliance requirements within the next 10 days\, and will be announcing a firm date for the opening of the MarketPlace once permitting issues are ironed out. While they regret any inconvenience to the public and the participating vendors due to this delay\, they wish to ensure proper execution of vendor contracts\, as well as county and regulatory agency requirements\, prior to commencement of the MarketPlace. A new opening date will be announced as soon as these conditions have been met.&nbsp\; </span></span><br />\n<span style="font-size: medium"><span style="font-family: calibri">-##-&nbsp\;</span></span><br />\n
LOCATION:
UID:e.517.1107
SEQUENCE:3
DTSTAMP:20260423T093210Z
URL:https://members.saratogachamber.org/events/details/saratoga-marketplace-delayed-press-release-06-29-2011-1107
END:VEVENT

END:VCALENDAR
