BEGIN:VCALENDAR
VERSION:2.0
PRODID:-//ChamberMaster//Event Calendar 2.0//EN
METHOD:PUBLISH
X-PUBLISHED-TTL:P3D
REFRESH-INTERVAL:P3D
CALSCALE:GREGORIAN
BEGIN:VEVENT
DTSTART;VALUE=DATE:20110201
DTEND;VALUE=DATE:20110215
TRANSP:TRANSPARENT
X-MICROSOFT-CDO-ALLDAYEVENT:TRUE
SUMMARY:Saratoga Love Notes
DESCRIPTION:Love Notes will be posted in store windows on Big Basin Way.
X-ALT-DESC;FMTTYPE=text/html:Love Notes will be posted in store windows on Big Basin Way. 
LOCATION:
UID:e.517.318
SEQUENCE:3
DTSTAMP:20260423T154518Z
URL:https://members.saratogachamber.org/events/details/saratoga-love-notes-02-01-2011-318
END:VEVENT

END:VCALENDAR
