BEGIN:VCALENDAR
VERSION:2.0
PRODID:-//ChamberMaster//Event Calendar 2.0//EN
METHOD:PUBLISH
X-PUBLISHED-TTL:P3D
REFRESH-INTERVAL:P3D
CALSCALE:GREGORIAN
BEGIN:VEVENT
DTSTART:20110704T163000Z
DTEND:20110704T180000Z
X-MICROSOFT-CDO-ALLDAYEVENT:FALSE
SUMMARY:Saratoga Independence Day Celebration
DESCRIPTION:Don't miss this old fashioned Independence Day celebration held on July 4th from 10AM to 11 AM with pre-program music starting at 9:30AM. The annual event will be held at the Kevin Moran Park at 12415 Scully Avenue in Saratoga. Children and adults are encouraged to decorate bikes\, scooters\, pets and themselves in red\, white and blue. Activities include color guard\, patriotic tunes from the McCartysville Band\, singing\, American historical characters\, and concludes with a family parade. After the parade\, popsicles are given to children. Shade is provided for seniors and handicapped. This event is free of charge. For more information\, go to http://www.saratogaJuly4.comor call Sarah 408-867-4577. Sponsored by the City of Saratoga\, Saratoga Rotary\, Saratoga Historical Foundation\, Saratoga Church of Jesus Christ of Later Day Saints and Saratoga Federated Church.
X-ALT-DESC;FMTTYPE=text/html:<p>\n	<span style="font-size: 10pt"><span style="font-family: arial\, sans-serif">Don&rsquo\;t miss this old fashioned Independence Day celebration held on July 4th from 10AM to 11 AM with pre-program music starting at 9:30AM. The annual event will be held at the Kevin Moran Park at 12415 Scully Avenue in Saratoga. Children and adults are encouraged to decorate bikes\, scooters\, pets and themselves in red\, white and blue. Activities include color guard\, patriotic tunes from the McCartysville Band\, singing\, American historical characters\, and concludes with a family parade. After the parade\, popsicles are given to children. Shade is provided for seniors and handicapped. This event is free of charge. For more information\, go to </span><a href="http://www.saratogaJuly4.com"><span style="color: #0000ff">http://www.saratogaJuly4.com</span></a></span>or call Sarah 408-867-4577. Sponsored by the City of Saratoga\, Saratoga Rotary\, Saratoga Historical Foundation\, Saratoga Church of Jesus Christ of Later Day Saints and Saratoga Federated Church.&nbsp\;&nbsp\;</p>\n
LOCATION:Kevin Moran Park 12415 Scully Avenue Saratoga \, \,\, \,\,\,\,\, cccccc\, \,\,\, CA
UID:e.517.361
SEQUENCE:3
DTSTAMP:20260423T093042Z
URL:https://members.saratogachamber.org/events/details/saratoga-independence-day-celebration-07-04-2011-361
END:VEVENT

END:VCALENDAR
