BEGIN:VCALENDAR
VERSION:2.0
PRODID:-//ChamberMaster//Event Calendar 2.0//EN
METHOD:PUBLISH
X-PUBLISHED-TTL:P3D
REFRESH-INTERVAL:P3D
CALSCALE:GREGORIAN
BEGIN:VEVENT
DTSTART:20110724T170000Z
DTEND:20110725T000000Z
X-MICROSOFT-CDO-ALLDAYEVENT:FALSE
SUMMARY:Saratoga Classic Car Show
DESCRIPTION:Welcome to the 2nd Annual Classic Car Show.  FREE and open to the public.\n\n	We have an exciting day planned with a silent auction and many other raffle items.  We have expanded and will have cars over at the Bank of America parking lot.
X-ALT-DESC;FMTTYPE=text/html:<div>\n	Welcome to the 2nd Annual Classic Car Show.&nbsp\; FREE and open to the public.<br />\n	We have an exciting day planned with a silent auction&nbsp\;and many other raffle items.&nbsp\; We have expanded and will have cars&nbsp\;over at the Bank of America parking lot.</div>\n
LOCATION:Big Basin WaySaratoga\, CA
UID:e.517.235
SEQUENCE:3
DTSTAMP:20260423T103752Z
URL:https://members.saratogachamber.org/events/details/saratoga-classic-car-show-07-24-2011-235
END:VEVENT

END:VCALENDAR
