BEGIN:VCALENDAR
VERSION:2.0
PRODID:-//ChamberMaster//Event Calendar 2.0//EN
METHOD:PUBLISH
X-PUBLISHED-TTL:P3D
REFRESH-INTERVAL:P3D
CALSCALE:GREGORIAN
BEGIN:VEVENT
DTSTART;VALUE=DATE:20100220
DTEND;VALUE=DATE:20100221
TRANSP:TRANSPARENT
X-MICROSOFT-CDO-ALLDAYEVENT:TRUE
SUMMARY:Saratoga Chamber of Commerce Community Crab Feed
DESCRIPTION:The annual Saratoga Chamber of Commerce community crab feed will be held on February 20 at the Sacred Heart church (13716 Saratoga Avenue\, Saratoga) from 6:30 to 8:30 PM. The all-you-can-eat crab feed includes cracked Dungeness crab\, hot pasta\, salad\, French bread\, coffee and soft drinks\, ice cream sundaes\, and cake. Beer and wine are available for purchase. Tickets are on sale for $40 for adults\; $20 for children under the age of 11. After February 5 ticket prices will cost $50 for adults and $25 for children. Don't miss this fun\, annual event. \nIn addition to food\; music and a DJ will provide entertainment as well as a raffle and silent auction and former Saratoga Mayor - Chuck Page will MC the live auction. \nPurchase tickets by contacting the Chamber of Commerce at: 408-867-0753 or by e-mailing judy@saratogachamber.org .
X-ALT-DESC;FMTTYPE=text/html:<div>The annual Saratoga Chamber of Commerce community crab feed will be held on February 20 at the Sacred Heart church (13716 Saratoga Avenue\, Saratoga) from 6:30 to 8:30 PM. The all-you-can-eat crab feed includes cracked Dungeness crab\, hot pasta\, salad\, French bread\, coffee and soft drinks\, ice cream sundaes\, and cake. Beer and wine are available for purchase. Tickets are on sale for $40 for adults\; $20 for children under the age of 11. After February 5 ticket prices will cost $50 for adults and $25 for children. Don&rsquo\;t miss this fun\, annual event. <br />In addition to food\; music and a DJ will provide entertainment as well as a raffle and silent auction and&nbsp\;former Saratoga Mayor - Chuck Page will MC the live auction. <br />Purchase tickets by contacting the Chamber of Commerce at: 408-867-0753 or by e-mailing judy@saratogachamber.org .&nbsp\;<br />&nbsp\;</div>
LOCATION:Sacred Heart church at 13716 Saratoga Avenue in Saratoga
UID:e.517.211
SEQUENCE:3
DTSTAMP:20260424T084327Z
URL:https://members.saratogachamber.org/events/details/saratoga-chamber-of-commerce-community-crab-feed-02-20-2010-211
END:VEVENT

END:VCALENDAR
