BEGIN:VCALENDAR
VERSION:2.0
PRODID:-//ChamberMaster//Event Calendar 2.0//EN
METHOD:PUBLISH
X-PUBLISHED-TTL:P3D
REFRESH-INTERVAL:P3D
CALSCALE:GREGORIAN
BEGIN:VEVENT
DTSTART:20100925T170000Z
DTEND:20100927T010000Z
X-MICROSOFT-CDO-ALLDAYEVENT:FALSE
SUMMARY:Saratoga Arts & Wine Festival / Sept. 25 & 26
DESCRIPTION:Saratoga Arts & Wine Festival
X-ALT-DESC;FMTTYPE=text/html:<div>Saratoga Arts &amp\; Wine Festival</div>
LOCATION:Big Basin WaySaratoga\, CA
UID:e.517.236
SEQUENCE:3
DTSTAMP:20260423T215924Z
URL:https://members.saratogachamber.org/events/details/saratoga-arts-wine-festival-sept-25-26-09-25-2010-236
END:VEVENT

END:VCALENDAR
