BEGIN:VCALENDAR
VERSION:2.0
PRODID:-//ChamberMaster//Event Calendar 2.0//EN
METHOD:PUBLISH
X-PUBLISHED-TTL:P3D
REFRESH-INTERVAL:P3D
CALSCALE:GREGORIAN
BEGIN:VEVENT
DTSTART;VALUE=DATE:20101028
DTEND;VALUE=DATE:20101029
TRANSP:TRANSPARENT
X-MICROSOFT-CDO-ALLDAYEVENT:TRUE
SUMMARY:Ribbon Cutting for Saratoga Historical Park
DESCRIPTION:The Saratoga Historical Foundation is hosting a ribbon cutting with city officials to celebrate the new landscaping of the Saratoga Historical Park (20450 Saratoga-Los Gatos Road in Saratoga) on Thursday\, October 28 at 3:00 PM. The event is free and open to the public.\n\nThe new landscaping was paid in part by a grant from the Saratoga Horticultural Research Foundation who specialized in the development of California native and drought tolerant plants. They developed over 150 such plants.\n\nThe event will include a ribbon cutting\; speeches\, free refreshments\, and the opportunity to take the self-guided tour of the plants in the park.\n\nAccording to SHF President Robert Himel\, "It is with great pride we can offer a tour of the historic gardens. A self-guided map is available outside as well as inside the Museum and at the BookGoRound so people can walk through the gardens at any time. It is a great way to learn about Saratoga horticultural history."
X-ALT-DESC;FMTTYPE=text/html:The Saratoga Historical Foundation is hosting a ribbon cutting with city officials to celebrate the new landscaping of the Saratoga Historical Park (20450 Saratoga-Los Gatos Road in Saratoga) on Thursday\, October 28 at 3:00 PM. The event is free and open to the public.\n<br>The new landscaping was paid in part by a grant from the Saratoga Horticultural Research Foundation who specialized in the development of California native and drought tolerant plants. They developed over 150 such plants.\n<br>The event will include a ribbon cutting\; speeches\, free refreshments\, and the opportunity to take the self-guided tour of the plants in the park.\n<br>According to SHF President Robert Himel\, "It is with great pride we can offer a tour of the historic gardens. A self-guided map is available outside as well as inside the Museum and at the BookGoRound so people can walk through the gardens at any time. It is a great way to learn about Saratoga horticultural history." \n<br>
LOCATION:20450 Saratoga-Los Gatos Road in Saratoga\, CA
UID:e.517.287
SEQUENCE:3
DTSTAMP:20260423T205450Z
URL:https://members.saratogachamber.org/events/details/ribbon-cutting-for-saratoga-historical-park-10-28-2010-287
END:VEVENT

END:VCALENDAR
