BEGIN:VCALENDAR
VERSION:2.0
PRODID:-//ChamberMaster//Event Calendar 2.0//EN
METHOD:PUBLISH
X-PUBLISHED-TTL:P3D
REFRESH-INTERVAL:P3D
CALSCALE:GREGORIAN
BEGIN:VEVENT
DTSTART:20090820T010000Z
DTEND:20090820T011500Z
X-MICROSOFT-CDO-ALLDAYEVENT:FALSE
SUMMARY:Ribbon Cutting - Big Word Cafe
DESCRIPTION:Ribbon Cutting event
X-ALT-DESC;FMTTYPE=text/html:<div>Ribbon Cutting event</div>
LOCATION:Big Word Cafe12241-A Saratoga-Sunnyvale Rd.Saratoga\, CA
UID:e.517.196
SEQUENCE:3
DTSTAMP:20260424T154952Z
URL:https://members.saratogachamber.org/events/details/ribbon-cutting-big-word-cafe-08-19-2009-196
END:VEVENT

END:VCALENDAR
