BEGIN:VCALENDAR
VERSION:2.0
PRODID:-//ChamberMaster//Event Calendar 2.0//EN
METHOD:PUBLISH
X-PUBLISHED-TTL:P3D
REFRESH-INTERVAL:P3D
CALSCALE:GREGORIAN
BEGIN:VEVENT
DTSTART:20110915T230000Z
DTEND:20110915T231500Z
X-MICROSOFT-CDO-ALLDAYEVENT:FALSE
SUMMARY:Ribbon Cutting at Vine Life Gifts
DESCRIPTION:Vine Life Gifts will have a Ribbon Cutting to Celebrate the opening of their new store.
X-ALT-DESC;FMTTYPE=text/html:Vine Life Gifts will have a Ribbon Cutting to Celebrate the opening of their new store.
LOCATION:Vine Life Gifts 14572 #A Big Basin Way Saratoga\, CA About 2 blocks up from the Chamber office\, before The Basin Restaurant.
UID:e.517.1266
SEQUENCE:3
DTSTAMP:20260421T082100Z
URL:https://members.saratogachamber.org/events/details/ribbon-cutting-at-vine-life-gifts-09-15-2011-1266
END:VEVENT

END:VCALENDAR
