BEGIN:VCALENDAR
VERSION:2.0
PRODID:-//ChamberMaster//Event Calendar 2.0//EN
METHOD:PUBLISH
X-PUBLISHED-TTL:P3D
REFRESH-INTERVAL:P3D
CALSCALE:GREGORIAN
BEGIN:VEVENT
DTSTART;VALUE=DATE:20100328
DTEND;VALUE=DATE:20100329
TRANSP:TRANSPARENT
X-MICROSOFT-CDO-ALLDAYEVENT:TRUE
SUMMARY:Reception for Saratoga Landmarks Through an Artist's Eyes
DESCRIPTION:Saratoga Landmarks Through an Artist's Eyes is a new exhibit supported by paintings provided by the Saratoga Community of Painters. Over 40 paintings showcase Saratoga's landmarks.  Come see and read about the history behind these landmarks.  The exhibit runs from March 12-May 31. A special reception is being held March 28 from 1-4 PM-- free to the public.
X-ALT-DESC;FMTTYPE=text/html:Saratoga Landmarks Through an Artist's Eyes is a new exhibit supported by paintings provided by the Saratoga Community of Painters. Over 40 paintings showcase Saratoga's landmarks.  Come see and read about the history behind these landmarks.  The exhibit runs from March 12-May 31. A special reception is being held March 28 from 1-4 PM-- free to the public.   
LOCATION:Saratoga History Museum at 20450 Saratoga-Los Gatos Road in Saratoga
UID:e.517.221
SEQUENCE:3
DTSTAMP:20260424T055721Z
URL:https://members.saratogachamber.org/events/details/reception-for-saratoga-landmarks-through-an-artist-s-eyes-03-28-2010-221
END:VEVENT

END:VCALENDAR
