BEGIN:VCALENDAR
VERSION:2.0
PRODID:-//ChamberMaster//Event Calendar 2.0//EN
METHOD:PUBLISH
X-PUBLISHED-TTL:P3D
REFRESH-INTERVAL:P3D
CALSCALE:GREGORIAN
BEGIN:VEVENT
DTSTART;VALUE=DATE:20101027
DTEND;VALUE=DATE:20101028
TRANSP:TRANSPARENT
X-MICROSOFT-CDO-ALLDAYEVENT:TRUE
SUMMARY:Pumpkin Coloring Contest - at Gene's Fine Foods / Oct. 18-27
DESCRIPTION:Pumpkin Coloring Contest\n\n	 \n\n	Color a Pumpkin. \n\n	Come pick-up a form from Gene's Fine Foods.
X-ALT-DESC;FMTTYPE=text/html:<div>\n	Pumpkin&nbsp\;Coloring Contest</div>\n<div>\n	&nbsp\;</div>\n<div>\n	Color a Pumpkin.&nbsp\;</div>\n<div>\n	Come pick-up a form from Gene&rsquo\;s Fine Foods.</div>\n
LOCATION:Gene's Fine Foods18850 Cox Ave.Saratoga\, CA
UID:e.517.237
SEQUENCE:3
DTSTAMP:20260423T204803Z
URL:https://members.saratogachamber.org/events/details/pumpkin-coloring-contest-at-gene-s-fine-foods-oct-18-27-10-27-2010-237
END:VEVENT

END:VCALENDAR
