BEGIN:VCALENDAR
VERSION:2.0
PRODID:-//ChamberMaster//Event Calendar 2.0//EN
METHOD:PUBLISH
X-PUBLISHED-TTL:P3D
REFRESH-INTERVAL:P3D
CALSCALE:GREGORIAN
BEGIN:VEVENT
DTSTART:20091025T200000Z
DTEND:20091025T220000Z
X-MICROSOFT-CDO-ALLDAYEVENT:FALSE
SUMMARY:President Lincoln's Last Journey
DESCRIPTION:President Lincoln?s Last Journey\, a multi-media presentation will take place on Sunday\, October 25 at 1:00 PM at the Saratoga History Museum by Historian Ray Cosyn.  The presentation is free to the public. The presentation will cover the reaction of the crowds and the miracles that occurred as the Lincoln funeral train travelled for 10 days across the country.. Join us for this insightful look into an event that took place when the country was attempting to recover from the Civil War. The Saratoga History Museum is located at 20450 Saratoga-Los Gatos Road in Saratoga.  Don?t miss the ?War Between the States? exhibit which will close at the end of October and features items from the collection of Bill Cleary.
X-ALT-DESC;FMTTYPE=text/html:President Lincoln?s Last Journey\, a multi-media presentation will take place on Sunday\, October 25 at 1:00 PM at the Saratoga History Museum by Historian Ray Cosyn.  The presentation is free to the public. The presentation will cover the reaction of the crowds and the miracles that occurred as the Lincoln funeral train travelled for 10 days across the country.. Join us for this insightful look into an event that took place when the country was attempting to recover from the Civil War. The Saratoga History Museum is located at 20450 Saratoga-Los Gatos Road in Saratoga.  Don?t miss the ?War Between the States? exhibit which will close at the end of October and features items from the collection of Bill Cleary.
LOCATION:Saratoga History Museum at 20450 Saratoga-Los Gatos Road in Saratoga\, CA
UID:e.517.203
SEQUENCE:3
DTSTAMP:20260424T130048Z
URL:https://members.saratogachamber.org/events/details/president-lincoln-s-last-journey-10-25-2009-203
END:VEVENT

END:VCALENDAR
