BEGIN:VCALENDAR
VERSION:2.0
PRODID:-//ChamberMaster//Event Calendar 2.0//EN
METHOD:PUBLISH
X-PUBLISHED-TTL:P3D
REFRESH-INTERVAL:P3D
CALSCALE:GREGORIAN
BEGIN:VEVENT
DTSTART:20110728T013000Z
DTEND:20110728T033000Z
X-MICROSOFT-CDO-ALLDAYEVENT:FALSE
SUMMARY:Planning a Kitchen or Bath Remodel Workshop
DESCRIPTION:For homeowners interested in learning more about how to approach a successful remodel\, these interactive workshops\, taught by our Award Winning Designers\, promise to be informative and fun!  Upfront planning will ensure a successful project and the transformation of your home you've always wanted.   \n\n	 \n\n	\n		Get the answers you need about budgets\, design and space planning/guidelines\, cabinet and countertop choices\, color palettes\, lighting\, new trends and ideas for flooring. \n	\n		Learn about accessibility/timeless design and why you should integrate it into your remodel now.  Beautiful\, luxurious and functional   you can have it all.\n	\n		Get excited about your home remodel as our Designers take you through a journey of ideas\, photos\, materials and product options available to transform your home today!\n\n\n	 \n\n	Registration and Light Dinner at 6:15pm\n\n	To register please visit us at http://www.harrell-remodeling.com or give us a call at 650-230-2900\n\n	 \n\n	Wednesday July 27th\, 2011\n\n	6:30pm   8:30pm\n\n	Harrell Remodeling Design Center\n\n	1954 Old Middlefield Way\n\n	Mountain View\, CA 94043
X-ALT-DESC;FMTTYPE=text/html:<p class="MsoNormal" style="margin: 0in 0in 0pt">\n	<span style="font-family: calibri\; font-size: 10pt"><font color="#000000">For homeowners interested in learning more about how to approach a successful remodel\, these interactive workshops\, taught by our Award Winning Designers\, promise to be informative and fun!<span style="mso-spacerun: yes">&nbsp\; </span>Upfront planning will ensure a successful project and the transformation of your home you&rsquo\;ve always wanted.<span style="mso-spacerun: yes">&nbsp\;&nbsp\; </span><o:p></o:p></font></span></p>\n<p class="MsoNormal" style="margin: 0in 0in 0pt">\n	<span style="font-family: calibri\; font-size: 10pt"><o:p><font color="#000000">&nbsp\;</font></o:p></span></p>\n<ul style="margin-top: 0in" type="disc">\n	<li class="MsoNormal" style="margin: 0in 0in 0pt\; mso-list: l0 level1 lfo1\; tab-stops: list .5in">\n		<span style="font-family: calibri\; font-size: 10pt"><font color="#000000">Get the answers you need about budgets\, design and space planning/guidelines\, cabinet and countertop choices\, color palettes\, lighting\, new trends and ideas for flooring. <o:p></o:p></font></span></li>\n	<li class="MsoNormal" style="margin: 0in 0in 0pt\; mso-list: l0 level1 lfo1\; tab-stops: list .5in">\n		<span style="font-family: calibri\; font-size: 10pt"><font color="#000000">Learn about accessibility/timeless design and why you should integrate it into your remodel now.<span style="mso-spacerun: yes">&nbsp\; </span>Beautiful\, luxurious and functional &ndash\; you can have it all.<o:p></o:p></font></span></li>\n	<li class="MsoNormal" style="margin: 0in 0in 0pt\; mso-list: l0 level1 lfo1\; tab-stops: list .5in">\n		<span style="font-family: calibri\; font-size: 10pt"><font color="#000000">Get excited about your home remodel as our Designers take you through a journey of ideas\, photos\, materials and product options available to transform your home today!<o:p></o:p></font></span></li>\n</ul>\n<p class="MsoNormal" style="margin: 0in 0in 0pt">\n	<span style="font-family: calibri\; font-size: 10pt"><o:p><font color="#000000">&nbsp\;</font></o:p></span></p>\n<p class="MsoNormal" style="margin: 0in 0in 0pt">\n	<span style="font-family: calibri\; font-size: 10pt"><font color="#000000">Registration and Light Dinner at 6:15pm<o:p></o:p></font></span></p>\n<p class="MsoNormal" style="margin: 0in 0in 0pt">\n	<span style="font-family: calibri\; font-size: 10pt"><font color="#000000">To register please visit us at </font><a href="http://www.harrell-remodeling.com/"><font color="#800080">http://www.harrell-remodeling.com</font></a><font color="#000000"> or give us a call at 650-230-2900<o:p></o:p></font></span></p>\n<p class="MsoNormal" style="margin: 0in 0in 0pt">\n	<span style="font-family: calibri\; font-size: 10pt"><o:p><font color="#000000">&nbsp\;</font></o:p></span></p>\n<p class="MsoNormal" style="margin: 0in 0in 0pt">\n	<span style="font-family: calibri\; font-size: 10pt"><font color="#000000">Wednesday July 27<sup>th</sup>\, 2011<o:p></o:p></font></span></p>\n<p class="MsoNormal" style="margin: 0in 0in 0pt">\n	<span style="font-family: calibri\; font-size: 10pt"><font color="#000000">6:30pm &ndash\; 8:30pm<o:p></o:p></font></span></p>\n<p class="MsoNormal" style="margin: 0in 0in 0pt">\n	<span style="font-family: calibri\; font-size: 10pt"><font color="#000000">Harrell Remodeling <st1:place w:st="on"><st1:placename w:st="on">Design</st1:placename> <st1:placetype w:st="on">Center</st1:placetype></st1:place><o:p></o:p></font></span></p>\n<p class="MsoNormal" style="margin: 0in 0in 0pt">\n	<font color="#000000"><st1:street w:st="on"><st1:address w:st="on"><span style="font-family: calibri\; font-size: 10pt">1954 Old Middlefield Way</span></st1:address></st1:street><span style="font-family: calibri\; font-size: 10pt"><o:p></o:p></span></font></p>\n<p class="MsoNormal" style="margin: 0in 0in 0pt">\n	<st1:place w:st="on"><font color="#000000"><st1:city w:st="on"><span style="font-family: calibri\; font-size: 10pt">Mountain View</span></st1:city><span style="font-family: calibri\; font-size: 10pt">\, <st1:state w:st="on">CA</st1:state> <st1:postalcode w:st="on">94043</st1:postalcode></span></font></st1:place><span style="font-family: calibri\; font-size: 10pt"><o:p></o:p></span></p>\n
LOCATION:Harrell Remodeling Design Center 1954 Old Middlefield Way Mountian View\, CA 94043
UID:e.517.1111
SEQUENCE:3
DTSTAMP:20260423T092915Z
URL:https://members.saratogachamber.org/events/details/planning-a-kitchen-or-bath-remodel-workshop-07-27-2011-1111
END:VEVENT

END:VCALENDAR
