BEGIN:VCALENDAR
VERSION:2.0
PRODID:-//ChamberMaster//Event Calendar 2.0//EN
METHOD:PUBLISH
X-PUBLISHED-TTL:P3D
REFRESH-INTERVAL:P3D
CALSCALE:GREGORIAN
BEGIN:VEVENT
DTSTART:20110416T170000Z
DTEND:20110416T190000Z
X-MICROSOFT-CDO-ALLDAYEVENT:FALSE
SUMMARY:Pet Parade
DESCRIPTION:Pet Parade
X-ALT-DESC;FMTTYPE=text/html:Pet Parade
LOCATION:Blaney Plaza / Saratoga Village
UID:e.517.320
SEQUENCE:3
DTSTAMP:20260423T130236Z
URL:https://members.saratogachamber.org/events/details/pet-parade-04-16-2011-320
END:VEVENT

END:VCALENDAR
