BEGIN:VCALENDAR
VERSION:2.0
PRODID:-//ChamberMaster//Event Calendar 2.0//EN
METHOD:PUBLISH
X-PUBLISHED-TTL:P3D
REFRESH-INTERVAL:P3D
CALSCALE:GREGORIAN
BEGIN:VEVENT
DTSTART:20110924T163000Z
DTEND:20110924T203000Z
X-MICROSOFT-CDO-ALLDAYEVENT:FALSE
SUMMARY:Parkinson's Disease: Light at the end of the Tunnel?
DESCRIPTION:There is hope for people diagnosed with Parkinson's Disease at most stages of the disease progression. Understanding the disease\, its consequences\, and the treatments that are readily available is what this seminar is about. The physicians supporting the Parkinson's program at El Camino Hospital Los Gatos come from the specialties of Neurology\, Physical Medicine and Rehabilitation\, Memory Disorders\, Neuro-Psychology and Otolaryngology. In this half-day session\, they will be presenting information on the basics for medical intervention\, surgical intervention\, caregiver training\, voice and swallowing interventions and rehabilitation.
X-ALT-DESC;FMTTYPE=text/html:There is hope for people diagnosed with Parkinson&rsquo\;s Disease at most stages of the disease progression. Understanding the disease\, its consequences\, and the treatments that are readily available is what this seminar is about. The physicians supporting the Parkinson&rsquo\;s program at El Camino Hospital Los Gatos come from the specialties of Neurology\, Physical Medicine and Rehabilitation\, Memory Disorders\, Neuro-Psychology and Otolaryngology. In this half-day session\, they will be presenting information on the basics for medical intervention\, surgical intervention\, caregiver training\, voice and swallowing interventions and rehabilitation.
LOCATION:Medical Office Building 555 Knowles Drive Los Gatos\, CA 95032
UID:e.517.1261
SEQUENCE:3
DTSTAMP:20260421T082159Z
URL:https://members.saratogachamber.org/events/details/parkinson-s-disease-light-at-the-end-of-the-tunnel-09-24-2011-1261
END:VEVENT

END:VCALENDAR
